BEGIN:VCALENDAR
VERSION:2.0
PRODID:-//Lakeland Fire Rescue - ECPv6.15.20//NONSGML v1.0//EN
CALSCALE:GREGORIAN
METHOD:PUBLISH
X-WR-CALNAME:Lakeland Fire Rescue
X-ORIGINAL-URL:https://lakelandfirerescue.com
X-WR-CALDESC:Events for Lakeland Fire Rescue
REFRESH-INTERVAL;VALUE=DURATION:PT1H
X-Robots-Tag:noindex
X-PUBLISHED-TTL:PT1H
BEGIN:VTIMEZONE
TZID:America/New_York
BEGIN:DAYLIGHT
TZOFFSETFROM:-0500
TZOFFSETTO:-0400
TZNAME:EDT
DTSTART:20230312T070000
END:DAYLIGHT
BEGIN:STANDARD
TZOFFSETFROM:-0400
TZOFFSETTO:-0500
TZNAME:EST
DTSTART:20231105T060000
END:STANDARD
BEGIN:DAYLIGHT
TZOFFSETFROM:-0500
TZOFFSETTO:-0400
TZNAME:EDT
DTSTART:20240310T070000
END:DAYLIGHT
BEGIN:STANDARD
TZOFFSETFROM:-0400
TZOFFSETTO:-0500
TZNAME:EST
DTSTART:20241103T060000
END:STANDARD
BEGIN:DAYLIGHT
TZOFFSETFROM:-0500
TZOFFSETTO:-0400
TZNAME:EDT
DTSTART:20250309T070000
END:DAYLIGHT
BEGIN:STANDARD
TZOFFSETFROM:-0400
TZOFFSETTO:-0500
TZNAME:EST
DTSTART:20251102T060000
END:STANDARD
BEGIN:DAYLIGHT
TZOFFSETFROM:-0500
TZOFFSETTO:-0400
TZNAME:EDT
DTSTART:20260308T070000
END:DAYLIGHT
BEGIN:STANDARD
TZOFFSETFROM:-0400
TZOFFSETTO:-0500
TZNAME:EST
DTSTART:20261101T060000
END:STANDARD
END:VTIMEZONE
BEGIN:VEVENT
DTSTART;TZID=America/New_York:20250106T193000
DTEND;TZID=America/New_York:20250106T193000
DTSTAMP:20260422T184555
CREATED:20250102T212739Z
LAST-MODIFIED:20250102T212814Z
UID:796-1736191800-1736191800@lakelandfirerescue.com
SUMMARY:Officer's Meeting
DESCRIPTION:
URL:https://lakelandfirerescue.com/department-event/officers-meeting-8/
LOCATION:Lakeland Fire Department Station 2\, 2415 Motor Pkwy\, Ronkonkoma\, NY\, 11779\, United States
END:VEVENT
BEGIN:VEVENT
DTSTART;TZID=America/New_York:20241228T180000
DTEND;TZID=America/New_York:20241228T180000
DTSTAMP:20260422T184555
CREATED:20241209T144009Z
LAST-MODIFIED:20241209T144033Z
UID:792-1735408800-1735408800@lakelandfirerescue.com
SUMMARY:Holiday Party
DESCRIPTION:This area requires a Lakeland Fire Department member account
URL:https://lakelandfirerescue.com/department-event/holiday-party/
LOCATION:NY
END:VEVENT
BEGIN:VEVENT
DTSTART;TZID=America/New_York:20241221T163000
DTEND;TZID=America/New_York:20241221T163000
DTSTAMP:20260422T184555
CREATED:20241113T175013Z
LAST-MODIFIED:20241223T154003Z
UID:767-1734798600-1734798600@lakelandfirerescue.com
SUMMARY:Sta. 1 Santa Run
DESCRIPTION:This area requires a Lakeland Fire Department member account
URL:https://lakelandfirerescue.com/department-event/sta-1-santa-run/
LOCATION:NY
END:VEVENT
BEGIN:VEVENT
DTSTART;TZID=America/New_York:20241215T170000
DTEND;TZID=America/New_York:20241215T170000
DTSTAMP:20260422T184555
CREATED:20241209T143843Z
LAST-MODIFIED:20241209T143904Z
UID:790-1734282000-1734282000@lakelandfirerescue.com
SUMMARY:HQ Santa Run
DESCRIPTION:This area requires a Lakeland Fire Department member account
URL:https://lakelandfirerescue.com/department-event/hq-santa-run/
LOCATION:Lakeland Fire Department Station 2\, 2415 Motor Pkwy\, Ronkonkoma\, NY\, 11779\, United States
END:VEVENT
BEGIN:VEVENT
DTSTART;TZID=America/New_York:20241201T180000
DTEND;TZID=America/New_York:20241201T180000
DTSTAMP:20260422T184555
CREATED:20241113T174913Z
LAST-MODIFIED:20241113T174938Z
UID:765-1733076000-1733076000@lakelandfirerescue.com
SUMMARY:Bohemia Christmas Parade
DESCRIPTION:This area requires a Lakeland Fire Department member account
URL:https://lakelandfirerescue.com/department-event/bohemia-christmas-parade/
LOCATION:NY
END:VEVENT
BEGIN:VEVENT
DTSTART;TZID=America/New_York:20241125T190000
DTEND;TZID=America/New_York:20241125T220000
DTSTAMP:20260422T184555
CREATED:20241120T140810Z
LAST-MODIFIED:20241120T140837Z
UID:770-1732561200-1732572000@lakelandfirerescue.com
SUMMARY:Dept Drill (Interior) @CIFD
DESCRIPTION:This area requires a Lakeland Fire Department member account
URL:https://lakelandfirerescue.com/department-event/dept-drill-interior-cifd/
LOCATION:Central Islip Fire Department Station 2\, 110 County Rd 17\, Central Islip\, New York\, 11722
END:VEVENT
BEGIN:VEVENT
DTSTART;TZID=America/New_York:20241120T200000
DTEND;TZID=America/New_York:20241120T200000
DTSTAMP:20260422T184555
CREATED:20241112T005620Z
LAST-MODIFIED:20241112T005642Z
UID:763-1732132800-1732132800@lakelandfirerescue.com
SUMMARY:Department Meeting
DESCRIPTION:This area requires a Lakeland Fire Department member account
URL:https://lakelandfirerescue.com/department-event/department-meeting-6/
LOCATION:Lakeland Fire Department Station 2\, 2415 Motor Pkwy\, Ronkonkoma\, NY\, 11779\, United States
END:VEVENT
BEGIN:VEVENT
DTSTART;TZID=America/New_York:20241117T090000
DTEND;TZID=America/New_York:20241117T090000
DTSTAMP:20260422T184555
CREATED:20241108T221521Z
LAST-MODIFIED:20241108T221657Z
UID:759-1731834000-1731834000@lakelandfirerescue.com
SUMMARY:Department Drill @CIFD
DESCRIPTION:This area requires a Lakeland Fire Department member account
URL:https://lakelandfirerescue.com/department-event/department-drill-cifd/
LOCATION:Central Islip Fire Department Station 2\, 110 County Rd 17\, Central Islip\, New York\, 11722
END:VEVENT
BEGIN:VEVENT
DTSTART;TZID=America/New_York:20241111T193000
DTEND;TZID=America/New_York:20241111T193000
DTSTAMP:20260422T184555
CREATED:20241111T224812Z
LAST-MODIFIED:20241111T224914Z
UID:761-1731353400-1731353400@lakelandfirerescue.com
SUMMARY:Officer’s Meeting
DESCRIPTION:This area requires a Lakeland Fire Department member account
URL:https://lakelandfirerescue.com/department-event/officers-meeting-7/
LOCATION:Lakeland Fire Department Station 2\, 2415 Motor Pkwy\, Ronkonkoma\, NY\, 11779\, United States
END:VEVENT
BEGIN:VEVENT
DTSTART;TZID=America/New_York:20241104T190000
DTEND;TZID=America/New_York:20241104T210000
DTSTAMP:20260422T184555
CREATED:20241003T191100Z
LAST-MODIFIED:20241003T191111Z
UID:748-1730746800-1730754000@lakelandfirerescue.com
SUMMARY:Hagerman Live Burn
DESCRIPTION:This area requires a Lakeland Fire Department member account
URL:https://lakelandfirerescue.com/department-event/hagerman-live-burn-2/
LOCATION:Hagerman Fire Department\, 510 Oakdale Ave\, East Patchogue\, New York\, 11772\, United States
END:VEVENT
BEGIN:VEVENT
DTSTART;TZID=America/New_York:20241103T090000
DTEND;TZID=America/New_York:20241103T090000
DTSTAMP:20260422T184555
CREATED:20241025T144032Z
LAST-MODIFIED:20241025T144126Z
UID:755-1730624400-1730624400@lakelandfirerescue.com
SUMMARY:Interior Department Drill @CIFD
DESCRIPTION:This area requires a Lakeland Fire Department member account
URL:https://lakelandfirerescue.com/department-event/interior-department-drill/
LOCATION:Central Islip Fire Department Station 2\, 110 County Rd 17\, Central Islip\, New York\, 11722
END:VEVENT
BEGIN:VEVENT
DTSTART;TZID=America/New_York:20241101T173000
DTEND;TZID=America/New_York:20241101T193000
DTSTAMP:20260422T184555
CREATED:20240822T153614Z
LAST-MODIFIED:20240822T153627Z
UID:693-1730482200-1730489400@lakelandfirerescue.com
SUMMARY:Standby: Varsity Football Game
DESCRIPTION:This area requires a Lakeland Fire Department member account
URL:https://lakelandfirerescue.com/department-event/standby-varsity-football-game-6/
LOCATION:Connetquot High School\, 190 7th Street\, Bohemia\, New York\, 11716
END:VEVENT
BEGIN:VEVENT
DTSTART;TZID=America/New_York:20241026T093000
DTEND;TZID=America/New_York:20241026T113000
DTSTAMP:20260422T184555
CREATED:20240822T153519Z
LAST-MODIFIED:20240822T153637Z
UID:691-1729935000-1729942200@lakelandfirerescue.com
SUMMARY:Standby: JV Football Game
DESCRIPTION:This area requires a Lakeland Fire Department member account
URL:https://lakelandfirerescue.com/department-event/standby-jv-football-game-2/
LOCATION:Connetquot High School\, 190 7th Street\, Bohemia\, New York\, 11716
END:VEVENT
BEGIN:VEVENT
DTSTART;TZID=America/New_York:20241025T170000
DTEND;TZID=America/New_York:20241025T190000
DTSTAMP:20260422T184555
CREATED:20241003T191008Z
LAST-MODIFIED:20241003T191024Z
UID:746-1729875600-1729882800@lakelandfirerescue.com
SUMMARY:Cherokee Trunk O'Treat
DESCRIPTION:This area requires a Lakeland Fire Department member account
URL:https://lakelandfirerescue.com/department-event/cherokee-trunk-otreat/
LOCATION:NY
END:VEVENT
BEGIN:VEVENT
DTSTART;TZID=America/New_York:20241021T190000
DTEND;TZID=America/New_York:20241021T210000
DTSTAMP:20260422T184555
CREATED:20241003T190822Z
LAST-MODIFIED:20241003T190859Z
UID:744-1729537200-1729544400@lakelandfirerescue.com
SUMMARY:Hagerman Live Burn
DESCRIPTION:This area requires a Lakeland Fire Department member account
URL:https://lakelandfirerescue.com/department-event/hagerman-live-burn/
LOCATION:Hagerman Fire Department\, 510 Oakdale Ave\, East Patchogue\, New York\, 11772\, United States
END:VEVENT
BEGIN:VEVENT
DTSTART;TZID=America/New_York:20241019T093000
DTEND;TZID=America/New_York:20241019T113000
DTSTAMP:20260422T184555
CREATED:20240822T153422Z
LAST-MODIFIED:20240822T153646Z
UID:689-1729330200-1729337400@lakelandfirerescue.com
SUMMARY:Standby: JV Football Game
DESCRIPTION:This area requires a Lakeland Fire Department member account
URL:https://lakelandfirerescue.com/department-event/standby-jv-football-game/
LOCATION:Connetquot High School\, 190 7th Street\, Bohemia\, New York\, 11716
END:VEVENT
BEGIN:VEVENT
DTSTART;TZID=America/New_York:20241018T090000
DTEND;TZID=America/New_York:20241018T110000
DTSTAMP:20260422T184555
CREATED:20241003T190546Z
LAST-MODIFIED:20241003T190617Z
UID:742-1729242000-1729249200@lakelandfirerescue.com
SUMMARY:Cherokee Fire Prevention
DESCRIPTION:This area requires a Lakeland Fire Department member account
URL:https://lakelandfirerescue.com/department-event/cherokee-fire-prevention/
LOCATION:NY
END:VEVENT
BEGIN:VEVENT
DTSTART;TZID=America/New_York:20241017T153000
DTEND;TZID=America/New_York:20241017T173000
DTSTAMP:20260422T184555
CREATED:20240822T153315Z
LAST-MODIFIED:20240822T153652Z
UID:687-1729179000-1729186200@lakelandfirerescue.com
SUMMARY:Standby: R.M.S Football Game
DESCRIPTION:This area requires a Lakeland Fire Department member account
URL:https://lakelandfirerescue.com/department-event/standby-r-m-s-football-game-2/
LOCATION:Ronkonkoma Middle School
END:VEVENT
BEGIN:VEVENT
DTSTART;TZID=America/New_York:20241016T200000
DTEND;TZID=America/New_York:20241016T210000
DTSTAMP:20260422T184555
CREATED:20241003T174220Z
LAST-MODIFIED:20241003T174244Z
UID:733-1729108800-1729112400@lakelandfirerescue.com
SUMMARY:Department Meeting
DESCRIPTION:This area requires a Lakeland Fire Department member account
URL:https://lakelandfirerescue.com/department-event/department-meeting-5/
LOCATION:Lakeland Fire Department Station 2\, 2415 Motor Pkwy\, Ronkonkoma\, NY\, 11779\, United States
END:VEVENT
BEGIN:VEVENT
DTSTART;TZID=America/New_York:20241015T190000
DTEND;TZID=America/New_York:20241015T190000
DTSTAMP:20260422T184555
CREATED:20241007T163857Z
LAST-MODIFIED:20241007T164004Z
UID:750-1729018800-1729018800@lakelandfirerescue.com
SUMMARY:LFD District Meeting
DESCRIPTION:This area requires a Lakeland Fire Department member account
URL:https://lakelandfirerescue.com/department-event/lfd-district-meeting-2/
LOCATION:NY
END:VEVENT
BEGIN:VEVENT
DTSTART;TZID=America/New_York:20241015T090000
DTEND;TZID=America/New_York:20241015T110000
DTSTAMP:20260422T184555
CREATED:20240911T165146Z
LAST-MODIFIED:20240911T170004Z
UID:716-1728982800-1728990000@lakelandfirerescue.com
SUMMARY:Fire Prevention Class
DESCRIPTION:This area requires a Lakeland Fire Department member account
URL:https://lakelandfirerescue.com/department-event/fire-prevention-class-3/
LOCATION:Duffield Elementary School\, 600 1st St\, Ronkonkoma\, New York\, 11779
CATEGORIES:Public_Events
END:VEVENT
BEGIN:VEVENT
DTSTART;TZID=America/New_York:20241010T173000
DTEND;TZID=America/New_York:20241010T193000
DTSTAMP:20260422T184555
CREATED:20240822T153124Z
LAST-MODIFIED:20240822T153201Z
UID:685-1728581400-1728588600@lakelandfirerescue.com
SUMMARY:Standby: Varsity Football Game
DESCRIPTION:This area requires a Lakeland Fire Department member account
URL:https://lakelandfirerescue.com/department-event/standby-varsity-football-game-5/
LOCATION:Connetquot High School\, 190 7th Street\, Bohemia\, New York\, 11716
END:VEVENT
BEGIN:VEVENT
DTSTART;TZID=America/New_York:20241008T153000
DTEND;TZID=America/New_York:20241008T173000
DTSTAMP:20260422T184555
CREATED:20240822T153024Z
LAST-MODIFIED:20240822T153208Z
UID:683-1728401400-1728408600@lakelandfirerescue.com
SUMMARY:Standby: R.M.S Football Game
DESCRIPTION:This area requires a Lakeland Fire Department member account
URL:https://lakelandfirerescue.com/department-event/standby-r-m-s-football-game/
LOCATION:Ronkonkoma Middle School
END:VEVENT
BEGIN:VEVENT
DTSTART;TZID=America/New_York:20241008T090000
DTEND;TZID=America/New_York:20241008T110000
DTSTAMP:20260422T184555
CREATED:20240911T164842Z
LAST-MODIFIED:20241003T175910Z
UID:714-1728378000-1728385200@lakelandfirerescue.com
SUMMARY:Fire Prevention Class
DESCRIPTION:This area requires a Lakeland Fire Department member account
URL:https://lakelandfirerescue.com/department-event/fire-prevention-class-2/
LOCATION:NY
CATEGORIES:Public_Events
END:VEVENT
BEGIN:VEVENT
DTSTART;TZID=America/New_York:20241007T090000
DTEND;TZID=America/New_York:20241007T110000
DTSTAMP:20260422T184555
CREATED:20240911T164731Z
LAST-MODIFIED:20240911T165939Z
UID:710-1728291600-1728298800@lakelandfirerescue.com
SUMMARY:Fire Prevention Class
DESCRIPTION:This area requires a Lakeland Fire Department member account
URL:https://lakelandfirerescue.com/department-event/fire-prevention-class/
LOCATION:Slocum Elementary School\, 2460 Sycamore Ave\, Ronkonkoma\, New York\, 11779
CATEGORIES:Public_Events
END:VEVENT
BEGIN:VEVENT
DTSTART;TZID=America/New_York:20241005T220000
DTEND;TZID=America/New_York:20241005T220000
DTSTAMP:20260422T184555
CREATED:20241003T175030Z
LAST-MODIFIED:20241003T175127Z
UID:735-1728165600-1728165600@lakelandfirerescue.com
SUMMARY:HERO FLIGHT @MacArthur Airport
DESCRIPTION:This area requires a Lakeland Fire Department member account
URL:https://lakelandfirerescue.com/department-event/hero-flight-macarthur-airport/
LOCATION:MacArthur Airport
END:VEVENT
BEGIN:VEVENT
DTSTART;TZID=America/New_York:20241005T080000
DTEND;TZID=America/New_York:20241005T170000
DTSTAMP:20260422T184555
CREATED:20240125T221931Z
LAST-MODIFIED:20240125T221933Z
UID:445-1728115200-1728147600@lakelandfirerescue.com
SUMMARY:Antique Fire Apparatus Muster and Chili Cook-Off
DESCRIPTION:This area requires a Lakeland Fire Department member account
URL:https://lakelandfirerescue.com/department-event/antique-fire-apparatus-muster-and-chili-cook-off/
LOCATION:Islip Town Fire Museum\, 4 Courthouse Drive\, Central Islip\, New York\, 11722\, United States
END:VEVENT
BEGIN:VEVENT
DTSTART;TZID=America/New_York:20240930T153000
DTEND;TZID=America/New_York:20240930T173000
DTSTAMP:20260422T184555
CREATED:20240822T152711Z
LAST-MODIFIED:20240822T152728Z
UID:678-1727710200-1727717400@lakelandfirerescue.com
SUMMARY:Standby: Varsity Football Game
DESCRIPTION:This area requires a Lakeland Fire Department member account
URL:https://lakelandfirerescue.com/department-event/standby-varsity-football-game-4/
LOCATION:NY
END:VEVENT
BEGIN:VEVENT
DTSTART;TZID=America/New_York:20240929T090000
DTEND;TZID=America/New_York:20240929T110000
DTSTAMP:20260422T184555
CREATED:20240911T170318Z
LAST-MODIFIED:20240911T170338Z
UID:728-1727600400-1727607600@lakelandfirerescue.com
SUMMARY:Department Drill
DESCRIPTION:This area requires a Lakeland Fire Department member account
URL:https://lakelandfirerescue.com/department-event/department-drill/
LOCATION:Central Islip Fire Department Station 2\, 110 County Rd 17\, Central Islip\, New York\, 11722
END:VEVENT
BEGIN:VEVENT
DTSTART;TZID=America/New_York:20240926T163000
DTEND;TZID=America/New_York:20240926T183000
DTSTAMP:20260422T184555
CREATED:20240822T152530Z
LAST-MODIFIED:20240822T152908Z
UID:676-1727368200-1727375400@lakelandfirerescue.com
SUMMARY:Standby: JV Football Game
DESCRIPTION:This area requires a Lakeland Fire Department member account
URL:https://lakelandfirerescue.com/department-event/standby-varsity-football-game-3/
LOCATION:CHS
END:VEVENT
END:VCALENDAR