BEGIN:VCALENDAR
VERSION:2.0
PRODID:-//Lakeland Fire Rescue - ECPv6.15.20//NONSGML v1.0//EN
CALSCALE:GREGORIAN
METHOD:PUBLISH
X-WR-CALNAME:Lakeland Fire Rescue
X-ORIGINAL-URL:https://lakelandfirerescue.com
X-WR-CALDESC:Events for Lakeland Fire Rescue
REFRESH-INTERVAL;VALUE=DURATION:PT1H
X-Robots-Tag:noindex
X-PUBLISHED-TTL:PT1H
BEGIN:VTIMEZONE
TZID:America/New_York
BEGIN:DAYLIGHT
TZOFFSETFROM:-0500
TZOFFSETTO:-0400
TZNAME:EDT
DTSTART:20240310T070000
END:DAYLIGHT
BEGIN:STANDARD
TZOFFSETFROM:-0400
TZOFFSETTO:-0500
TZNAME:EST
DTSTART:20241103T060000
END:STANDARD
BEGIN:DAYLIGHT
TZOFFSETFROM:-0500
TZOFFSETTO:-0400
TZNAME:EDT
DTSTART:20250309T070000
END:DAYLIGHT
BEGIN:STANDARD
TZOFFSETFROM:-0400
TZOFFSETTO:-0500
TZNAME:EST
DTSTART:20251102T060000
END:STANDARD
BEGIN:DAYLIGHT
TZOFFSETFROM:-0500
TZOFFSETTO:-0400
TZNAME:EDT
DTSTART:20260308T070000
END:DAYLIGHT
BEGIN:STANDARD
TZOFFSETFROM:-0400
TZOFFSETTO:-0500
TZNAME:EST
DTSTART:20261101T060000
END:STANDARD
END:VTIMEZONE
BEGIN:VEVENT
DTSTART;TZID=America/New_York:20250721T183000
DTEND;TZID=America/New_York:20250721T210000
DTSTAMP:20260422T184951
CREATED:20241209T143358Z
LAST-MODIFIED:20250521T180830Z
UID:782-1753122600-1753131600@lakelandfirerescue.com
SUMMARY:SCFA Department Drill: Private Dwelling Search
DESCRIPTION:
URL:https://lakelandfirerescue.com/department-event/scfa-department-drill-private-dwelling-search/
LOCATION:Suffolk County Fire Academy\, 103 East Ave\, Yaphank\, NY\, 11980\, United States
END:VEVENT
BEGIN:VEVENT
DTSTART;TZID=America/New_York:20250716T173000
DTEND;TZID=America/New_York:20250716T220000
DTSTAMP:20260422T184951
CREATED:20250702T132419Z
LAST-MODIFIED:20250710T192829Z
UID:918-1752687000-1752703200@lakelandfirerescue.com
SUMMARY:Huntington Manor Parade
DESCRIPTION:This area requires a Lakeland Fire Department member account
URL:https://lakelandfirerescue.com/department-event/huntington-manor-parade/
END:VEVENT
BEGIN:VEVENT
DTSTART;TZID=America/New_York:20250714T190000
DTEND;TZID=America/New_York:20250714T210000
DTSTAMP:20260422T184951
CREATED:20240822T155235Z
LAST-MODIFIED:20250710T192646Z
UID:695-1752519600-1752526800@lakelandfirerescue.com
SUMMARY:EMS CPR Class
DESCRIPTION:This area requires a Lakeland Fire Department member account
URL:https://lakelandfirerescue.com/department-event/ems-cpr-class/
LOCATION:Lakeland Fire Department Station 2\, 2415 Motor Pkwy\, Ronkonkoma\, NY\, 11779\, United States
END:VEVENT
BEGIN:VEVENT
DTSTART;TZID=America/New_York:20250707T190000
DTEND;TZID=America/New_York:20250707T213000
DTSTAMP:20260422T184951
CREATED:20250116T203237Z
LAST-MODIFIED:20250702T131959Z
UID:809-1751914800-1751923800@lakelandfirerescue.com
SUMMARY:LFD Officer's Meeting
DESCRIPTION:This area requires a Lakeland Fire Department member account
URL:https://lakelandfirerescue.com/department-event/lfd-officers-meeting-7/
LOCATION:Lakeland Fire Department HQ\, 929 Johnson Ave.\, Ronkonkoma\, NY\, 11779\, United States
END:VEVENT
BEGIN:VEVENT
DTSTART;TZID=America/New_York:20250702T190000
DTEND;TZID=America/New_York:20250702T210000
DTSTAMP:20260422T184951
CREATED:20250617T200743Z
LAST-MODIFIED:20250617T200814Z
UID:901-1751482800-1751490000@lakelandfirerescue.com
SUMMARY:EMS Protocol v24.1 Review Drill
DESCRIPTION:This area requires a Lakeland Fire Department member account
URL:https://lakelandfirerescue.com/department-event/ems-protocol-v24-1-review-drill/
LOCATION:Lakeland Fire Department HQ\, 929 Johnson Ave.\, Ronkonkoma\, NY\, 11779\, United States
END:VEVENT
BEGIN:VEVENT
DTSTART;TZID=America/New_York:20250628T053000
DTEND;TZID=America/New_York:20250628T113000
DTSTAMP:20260422T184951
CREATED:20250521T180653Z
LAST-MODIFIED:20250521T180722Z
UID:887-1751088600-1751110200@lakelandfirerescue.com
SUMMARY:Lt. Michael Murphy Run
DESCRIPTION:This area requires a Lakeland Fire Department member account
URL:https://lakelandfirerescue.com/department-event/michael-murphy-run/
END:VEVENT
BEGIN:VEVENT
DTSTART;TZID=America/New_York:20250625T190000
DTEND;TZID=America/New_York:20250625T210000
DTSTAMP:20260422T184951
CREATED:20250617T195609Z
LAST-MODIFIED:20250617T195658Z
UID:897-1750878000-1750885200@lakelandfirerescue.com
SUMMARY:BLS I-GEL in-service w/Dr. Coyne
DESCRIPTION:This area requires a Lakeland Fire Department member account
URL:https://lakelandfirerescue.com/department-event/bls-i-gel-in-service-w-dr-coyne/
LOCATION:Lakeland Fire Department HQ\, 929 Johnson Ave.\, Ronkonkoma\, NY\, 11779\, United States
END:VEVENT
BEGIN:VEVENT
DTSTART;TZID=America/New_York:20250623T190000
DTEND;TZID=America/New_York:20250623T210000
DTSTAMP:20260422T184951
CREATED:20250617T200012Z
LAST-MODIFIED:20250617T200034Z
UID:899-1750705200-1750712400@lakelandfirerescue.com
SUMMARY:Dept. Drill -- Nob Hill South Walk-Thru
DESCRIPTION:This area requires a Lakeland Fire Department member account
URL:https://lakelandfirerescue.com/department-event/dept-drill-nob-hill-south-walk-thru/
END:VEVENT
BEGIN:VEVENT
DTSTART;TZID=America/New_York:20250618T200000
DTEND;TZID=America/New_York:20250618T220000
DTSTAMP:20260422T184951
CREATED:20250521T180518Z
LAST-MODIFIED:20250521T180538Z
UID:885-1750276800-1750284000@lakelandfirerescue.com
SUMMARY:Department Meeting
DESCRIPTION:This area requires a Lakeland Fire Department member account
URL:https://lakelandfirerescue.com/department-event/department-meeting-10/
LOCATION:Lakeland Fire Department HQ\, 929 Johnson Ave.\, Ronkonkoma\, NY\, 11779\, United States
END:VEVENT
BEGIN:VEVENT
DTSTART;TZID=America/New_York:20250611T080000
DTEND;TZID=America/New_York:20250611T110000
DTSTAMP:20260422T184951
CREATED:20250521T175416Z
LAST-MODIFIED:20250521T175433Z
UID:879-1749628800-1749639600@lakelandfirerescue.com
SUMMARY:EMS MCI Drill @SBUH
DESCRIPTION:This area requires a Lakeland Fire Department member account
URL:https://lakelandfirerescue.com/department-event/ems-mci-drill-sbuh/
END:VEVENT
BEGIN:VEVENT
DTSTART;TZID=America/New_York:20250602T190000
DTEND;TZID=America/New_York:20250602T210000
DTSTAMP:20260422T184951
CREATED:20250116T203205Z
LAST-MODIFIED:20250521T180349Z
UID:807-1748890800-1748898000@lakelandfirerescue.com
SUMMARY:LFD Officer's Meeting
DESCRIPTION:This area requires a Lakeland Fire Department member account
URL:https://lakelandfirerescue.com/department-event/lfd-officers-meeting-6/
END:VEVENT
BEGIN:VEVENT
DTSTART;TZID=America/New_York:20250526T090000
DTEND;TZID=America/New_York:20250526T150000
DTSTAMP:20260422T184951
CREATED:20250521T175312Z
LAST-MODIFIED:20250521T175329Z
UID:877-1748250000-1748271600@lakelandfirerescue.com
SUMMARY:Memorial Day Parade & BBQ @ RONK
DESCRIPTION:This area requires a Lakeland Fire Department member account
URL:https://lakelandfirerescue.com/department-event/memorial-day-parade-bbq-ronk/
END:VEVENT
BEGIN:VEVENT
DTSTART;TZID=America/New_York:20250524T080000
DTEND;TZID=America/New_York:20250524T110000
DTSTAMP:20260422T184951
CREATED:20250521T180220Z
LAST-MODIFIED:20250521T180245Z
UID:883-1748073600-1748084400@lakelandfirerescue.com
SUMMARY:EMS WEEK - END
DESCRIPTION:This area requires a Lakeland Fire Department member account
URL:https://lakelandfirerescue.com/department-event/ems-week-end/
END:VEVENT
BEGIN:VEVENT
DTSTART;TZID=America/New_York:20250521T200000
DTEND;TZID=America/New_York:20250521T220000
DTSTAMP:20260422T184951
CREATED:20250521T174959Z
LAST-MODIFIED:20250521T175028Z
UID:873-1747857600-1747864800@lakelandfirerescue.com
SUMMARY:Department Meeting
DESCRIPTION:This area requires a Lakeland Fire Department member account
URL:https://lakelandfirerescue.com/department-event/department-meeting-9/
LOCATION:Lakeland Fire Department HQ\, 929 Johnson Ave.\, Ronkonkoma\, NY\, 11779\, United States
END:VEVENT
BEGIN:VEVENT
DTSTART;TZID=America/New_York:20250521T193000
DTEND;TZID=America/New_York:20250521T200000
DTSTAMP:20260422T184951
CREATED:20250521T175118Z
LAST-MODIFIED:20250521T175604Z
UID:875-1747855800-1747857600@lakelandfirerescue.com
SUMMARY:EMS Week -- Ice Cream Truck @HQ
DESCRIPTION:This area requires a Lakeland Fire Department member account
URL:https://lakelandfirerescue.com/department-event/ems-week-ice-cream-truck-hq/
LOCATION:Lakeland Fire Department HQ\, 929 Johnson Ave.\, Ronkonkoma\, NY\, 11779\, United States
END:VEVENT
BEGIN:VEVENT
DTSTART;TZID=America/New_York:20250519T190000
DTEND;TZID=America/New_York:20250519T190000
DTSTAMP:20260422T184951
CREATED:20241209T143157Z
LAST-MODIFIED:20241209T143313Z
UID:780-1747681200-1747681200@lakelandfirerescue.com
SUMMARY:SCFA Department Drill: Class A
DESCRIPTION:This area requires a Lakeland Fire Department member account
URL:https://lakelandfirerescue.com/department-event/scfa-department-drill-class-a/
LOCATION:Suffolk County Fire Academy\, 103 East Ave\, Yaphank\, NY\, 11980\, United States
END:VEVENT
BEGIN:VEVENT
DTSTART;TZID=America/New_York:20250518T080000
DTEND;TZID=America/New_York:20250518T120000
DTSTAMP:20260422T184951
CREATED:20250521T174639Z
LAST-MODIFIED:20250521T180149Z
UID:871-1747555200-1747569600@lakelandfirerescue.com
SUMMARY:EMS WEEK - START
DESCRIPTION:This area requires a Lakeland Fire Department member account
URL:https://lakelandfirerescue.com/department-event/ems-week-2/
END:VEVENT
BEGIN:VEVENT
DTSTART;TZID=America/New_York:20250505T193000
DTEND;TZID=America/New_York:20250505T193000
DTSTAMP:20260422T184951
CREATED:20250116T203131Z
LAST-MODIFIED:20250116T204053Z
UID:805-1746473400-1746473400@lakelandfirerescue.com
SUMMARY:LFD Officer's Meeting
DESCRIPTION:This area requires a Lakeland Fire Department member account
URL:https://lakelandfirerescue.com/department-event/lfd-officers-meeting-5/
END:VEVENT
BEGIN:VEVENT
DTSTART;TZID=America/New_York:20250427T090000
DTEND;TZID=America/New_York:20250427T090000
DTSTAMP:20260422T184951
CREATED:20250401T173647Z
LAST-MODIFIED:20250401T173708Z
UID:867-1745744400-1745744400@lakelandfirerescue.com
SUMMARY:HQ Truck Check and Training
DESCRIPTION:This area requires a Lakeland Fire Department member account
URL:https://lakelandfirerescue.com/department-event/hq-truck-check-and-training/
END:VEVENT
BEGIN:VEVENT
DTSTART;TZID=America/New_York:20250423T200000
DTEND;TZID=America/New_York:20250423T200000
DTSTAMP:20260422T184951
CREATED:20250401T173547Z
LAST-MODIFIED:20250408T135517Z
UID:865-1745438400-1745438400@lakelandfirerescue.com
SUMMARY:Department Meeting
DESCRIPTION:This area requires a Lakeland Fire Department member account
URL:https://lakelandfirerescue.com/department-event/department-meeting-8/
LOCATION:Lakeland Fire Department HQ\, 929 Johnson Ave.\, Ronkonkoma\, NY\, 11779\, United States
END:VEVENT
BEGIN:VEVENT
DTSTART;TZID=America/New_York:20250415T190000
DTEND;TZID=America/New_York:20250415T190000
DTSTAMP:20260422T184951
CREATED:20250401T173448Z
LAST-MODIFIED:20250401T173725Z
UID:863-1744743600-1744743600@lakelandfirerescue.com
SUMMARY:HQ - Work Detail for Chief's Meeting
DESCRIPTION:This area requires a Lakeland Fire Department member account
URL:https://lakelandfirerescue.com/department-event/hq-work-detail-for-chiefs-meeting/
LOCATION:Lakeland Fire Department HQ\, 929 Johnson Ave.\, Ronkonkoma\, NY\, 11779\, United States
END:VEVENT
BEGIN:VEVENT
DTSTART;TZID=America/New_York:20250415T183000
DTEND;TZID=America/New_York:20250415T203000
DTSTAMP:20260422T184951
CREATED:20250401T163029Z
LAST-MODIFIED:20250401T163110Z
UID:855-1744741800-1744749000@lakelandfirerescue.com
SUMMARY:Islip Town Chief Council Dinner
DESCRIPTION:This area requires a Lakeland Fire Department member account
URL:https://lakelandfirerescue.com/department-event/islip-town-chief-council-dinner/
LOCATION:Lakeland Fire Department HQ\, 929 Johnson Ave.\, Ronkonkoma\, NY\, 11779\, United States
END:VEVENT
BEGIN:VEVENT
DTSTART;TZID=America/New_York:20250415T080000
DTEND;TZID=America/New_York:20250415T170000
DTSTAMP:20260422T184951
CREATED:20250116T204230Z
LAST-MODIFIED:20250116T204259Z
UID:822-1744704000-1744736400@lakelandfirerescue.com
SUMMARY:Department Physical Due Date
DESCRIPTION:This area requires a Lakeland Fire Department member account
URL:https://lakelandfirerescue.com/department-event/department-physical-due-date/
END:VEVENT
BEGIN:VEVENT
DTSTART;TZID=America/New_York:20250413T103000
DTEND;TZID=America/New_York:20250413T103000
DTSTAMP:20260422T184951
CREATED:20250401T173346Z
LAST-MODIFIED:20250401T173732Z
UID:861-1744540200-1744540200@lakelandfirerescue.com
SUMMARY:HQ Meeting
DESCRIPTION:This area requires a Lakeland Fire Department member account
URL:https://lakelandfirerescue.com/department-event/hq-meeting/
LOCATION:Lakeland Fire Department Station 2\, 2415 Motor Pkwy\, Ronkonkoma\, NY\, 11779\, United States
END:VEVENT
BEGIN:VEVENT
DTSTART;TZID=America/New_York:20250413T090000
DTEND;TZID=America/New_York:20250413T090000
DTSTAMP:20260422T184951
CREATED:20250401T173307Z
LAST-MODIFIED:20250401T173740Z
UID:859-1744534800-1744534800@lakelandfirerescue.com
SUMMARY:HQ Truck Check
DESCRIPTION:This area requires a Lakeland Fire Department member account
URL:https://lakelandfirerescue.com/department-event/hq-truck-check/
LOCATION:Lakeland Fire Department Station 2\, 2415 Motor Pkwy\, Ronkonkoma\, NY\, 11779\, United States
END:VEVENT
BEGIN:VEVENT
DTSTART;TZID=America/New_York:20250407T190000
DTEND;TZID=America/New_York:20250407T190000
DTSTAMP:20260422T184951
CREATED:20241209T142759Z
LAST-MODIFIED:20241209T143038Z
UID:775-1744052400-1744052400@lakelandfirerescue.com
SUMMARY:SCFA Department Drill: Rapid Intervention
DESCRIPTION:This area requires a Lakeland Fire Department member account
URL:https://lakelandfirerescue.com/department-event/scfa-department-drill-rapid-intervention/
LOCATION:Suffolk County Fire Academy\, 103 East Ave\, Yaphank\, NY\, 11980\, United States
END:VEVENT
BEGIN:VEVENT
DTSTART;TZID=America/New_York:20250406T090000
DTEND;TZID=America/New_York:20250406T110000
DTSTAMP:20260422T184951
CREATED:20250401T173100Z
LAST-MODIFIED:20250401T175230Z
UID:857-1743930000-1743937200@lakelandfirerescue.com
SUMMARY:HQ Truck Check & Training
DESCRIPTION:This area requires a Lakeland Fire Department member account
URL:https://lakelandfirerescue.com/department-event/hq-truck-check-drill/
LOCATION:Lakeland Fire Department Station 2\, 2415 Motor Pkwy\, Ronkonkoma\, NY\, 11779\, United States
END:VEVENT
BEGIN:VEVENT
DTSTART;TZID=America/New_York:20250406T090000
DTEND;TZID=America/New_York:20250406T090000
DTSTAMP:20260422T184951
CREATED:20250116T203058Z
LAST-MODIFIED:20250116T204100Z
UID:803-1743930000-1743930000@lakelandfirerescue.com
SUMMARY:LFD Officer's Meeting
DESCRIPTION:This area requires a Lakeland Fire Department member account
URL:https://lakelandfirerescue.com/department-event/lfd-officers-meeting-4/
END:VEVENT
BEGIN:VEVENT
DTSTART;TZID=America/New_York:20250402T170000
DTEND;TZID=America/New_York:20250402T210000
DTSTAMP:20260422T184951
CREATED:20250222T134129Z
LAST-MODIFIED:20250222T134155Z
UID:845-1743613200-1743627600@lakelandfirerescue.com
SUMMARY:Career Night @CHS
DESCRIPTION:This area requires a Lakeland Fire Department member account
URL:https://lakelandfirerescue.com/department-event/career-night-chs/
LOCATION:Connetquot High School\, 190 7th Street\, Bohemia\, New York\, 11716
END:VEVENT
BEGIN:VEVENT
DTSTART;TZID=America/New_York:20250330T100000
DTEND;TZID=America/New_York:20250330T100000
DTSTAMP:20260422T184951
CREATED:20250211T204434Z
LAST-MODIFIED:20250305T192144Z
UID:833-1743328800-1743328800@lakelandfirerescue.com
SUMMARY:Drill at CIFD
DESCRIPTION:This area requires a Lakeland Fire Department member account
URL:https://lakelandfirerescue.com/department-event/drill-at-cifd/
LOCATION:Central Islip Fire Department Station 2\, 110 County Rd 17\, Central Islip\, New York\, 11722
END:VEVENT
END:VCALENDAR