BEGIN:VCALENDAR
VERSION:2.0
PRODID:-//Lakeland Fire Rescue - ECPv6.15.20//NONSGML v1.0//EN
CALSCALE:GREGORIAN
METHOD:PUBLISH
X-WR-CALNAME:Lakeland Fire Rescue
X-ORIGINAL-URL:https://lakelandfirerescue.com
X-WR-CALDESC:Events for Lakeland Fire Rescue
REFRESH-INTERVAL;VALUE=DURATION:PT1H
X-Robots-Tag:noindex
X-PUBLISHED-TTL:PT1H
BEGIN:VTIMEZONE
TZID:America/New_York
BEGIN:DAYLIGHT
TZOFFSETFROM:-0500
TZOFFSETTO:-0400
TZNAME:EDT
DTSTART:20240310T070000
END:DAYLIGHT
BEGIN:STANDARD
TZOFFSETFROM:-0400
TZOFFSETTO:-0500
TZNAME:EST
DTSTART:20241103T060000
END:STANDARD
BEGIN:DAYLIGHT
TZOFFSETFROM:-0500
TZOFFSETTO:-0400
TZNAME:EDT
DTSTART:20250309T070000
END:DAYLIGHT
BEGIN:STANDARD
TZOFFSETFROM:-0400
TZOFFSETTO:-0500
TZNAME:EST
DTSTART:20251102T060000
END:STANDARD
BEGIN:DAYLIGHT
TZOFFSETFROM:-0500
TZOFFSETTO:-0400
TZNAME:EDT
DTSTART:20260308T070000
END:DAYLIGHT
BEGIN:STANDARD
TZOFFSETFROM:-0400
TZOFFSETTO:-0500
TZNAME:EST
DTSTART:20261101T060000
END:STANDARD
BEGIN:DAYLIGHT
TZOFFSETFROM:-0500
TZOFFSETTO:-0400
TZNAME:EDT
DTSTART:20270314T070000
END:DAYLIGHT
BEGIN:STANDARD
TZOFFSETFROM:-0400
TZOFFSETTO:-0500
TZNAME:EST
DTSTART:20271107T060000
END:STANDARD
END:VTIMEZONE
BEGIN:VEVENT
DTSTART;TZID=America/New_York:20251201T190000
DTEND;TZID=America/New_York:20251201T213000
DTSTAMP:20260422T175726
CREATED:20250116T203505Z
LAST-MODIFIED:20250521T181015Z
UID:820-1764615600-1764624600@lakelandfirerescue.com
SUMMARY:LFD Officer's Meeting
DESCRIPTION:
URL:https://lakelandfirerescue.com/department-event/lfd-officers-meeting-12/
LOCATION:NY
END:VEVENT
BEGIN:VEVENT
DTSTART;TZID=America/New_York:20251204T000000
DTEND;TZID=America/New_York:20251204T200000
DTSTAMP:20260422T175726
CREATED:20251125T194638Z
LAST-MODIFIED:20251125T194706Z
UID:1127-1764806400-1764878400@lakelandfirerescue.com
SUMMARY:LFD Voting - Chiefs and Officers
DESCRIPTION:This area requires a Lakeland Fire Department member account
URL:https://lakelandfirerescue.com/department-event/lfd-voting-chiefs-and-officers/
LOCATION:NY
END:VEVENT
BEGIN:VEVENT
DTSTART;TZID=America/New_York:20251206T120000
DTEND;TZID=America/New_York:20251206T145900
DTSTAMP:20260422T175726
CREATED:20251125T194324Z
LAST-MODIFIED:20251125T194409Z
UID:1122-1765022400-1765033140@lakelandfirerescue.com
SUMMARY:HQ Christmas Party for Kids
DESCRIPTION:This area requires a Lakeland Fire Department member account
URL:https://lakelandfirerescue.com/department-event/hq-christmas-party-for-kids/
LOCATION:Lakeland Fire Department HQ\, 929 Johnson Ave.\, Ronkonkoma\, NY\, 11779\, United States
END:VEVENT
BEGIN:VEVENT
DTSTART;TZID=America/New_York:20251206T190000
DTEND;TZID=America/New_York:20251206T210000
DTSTAMP:20260422T175726
CREATED:20251125T195258Z
LAST-MODIFIED:20251125T195318Z
UID:1131-1765047600-1765054800@lakelandfirerescue.com
SUMMARY:LFD: HQ Christmas Decorating
DESCRIPTION:This area requires a Lakeland Fire Department member account
URL:https://lakelandfirerescue.com/department-event/lfd-hq-christmas-decorating/
LOCATION:Lakeland Fire Department HQ\, 929 Johnson Ave.\, Ronkonkoma\, NY\, 11779\, United States
END:VEVENT
BEGIN:VEVENT
DTSTART;TZID=America/New_York:20251210T190000
DTEND;TZID=America/New_York:20251210T210000
DTSTAMP:20260422T175726
CREATED:20251125T194540Z
LAST-MODIFIED:20251125T194557Z
UID:1125-1765393200-1765400400@lakelandfirerescue.com
SUMMARY:Surgical Cric Airway Class
DESCRIPTION:This area requires a Lakeland Fire Department member account
URL:https://lakelandfirerescue.com/department-event/surgical-cric-airway-class/
LOCATION:Lakeland Fire Department HQ\, 929 Johnson Ave.\, Ronkonkoma\, NY\, 11779\, United States
END:VEVENT
BEGIN:VEVENT
DTSTART;TZID=America/New_York:20251213T140000
DTEND;TZID=America/New_York:20251213T180000
DTSTAMP:20260422T175726
CREATED:20251125T195500Z
LAST-MODIFIED:20251125T195521Z
UID:1133-1765634400-1765648800@lakelandfirerescue.com
SUMMARY:Matthew's Wish Parade
DESCRIPTION:This area requires a Lakeland Fire Department member account
URL:https://lakelandfirerescue.com/department-event/matthews-wish-parade/
LOCATION:NY
END:VEVENT
BEGIN:VEVENT
DTSTART;TZID=America/New_York:20251214T090000
DTEND;TZID=America/New_York:20251214T120000
DTSTAMP:20260422T175726
CREATED:20251125T193839Z
LAST-MODIFIED:20251125T193841Z
UID:1119-1765702800-1765713600@lakelandfirerescue.com
SUMMARY:LFD: Breakfast with Santa
DESCRIPTION:This area requires a Lakeland Fire Department member account
URL:https://lakelandfirerescue.com/department-event/lfd-breakfast-with-santa/
LOCATION:Lakeland Fire Department Station 2\, 2415 Motor Pkwy\, Ronkonkoma\, NY\, 11779\, United States
END:VEVENT
BEGIN:VEVENT
DTSTART;TZID=America/New_York:20251220T160000
DTEND;TZID=America/New_York:20251220T180000
DTSTAMP:20260422T175726
CREATED:20251125T195634Z
LAST-MODIFIED:20251125T195653Z
UID:1135-1766246400-1766253600@lakelandfirerescue.com
SUMMARY:Santa Ride
DESCRIPTION:This area requires a Lakeland Fire Department member account
URL:https://lakelandfirerescue.com/department-event/santa-ride/
LOCATION:Lakeland Fire Department HQ\, 929 Johnson Ave.\, Ronkonkoma\, NY\, 11779\, United States
END:VEVENT
BEGIN:VEVENT
DTSTART;TZID=America/New_York:20260121T200000
DTEND;TZID=America/New_York:20260121T220000
DTSTAMP:20260422T175726
CREATED:20260120T211716Z
LAST-MODIFIED:20260120T211742Z
UID:1159-1769025600-1769032800@lakelandfirerescue.com
SUMMARY:Department Meeting
DESCRIPTION:This area requires a Lakeland Fire Department member account
URL:https://lakelandfirerescue.com/department-event/department-meeting-12/
LOCATION:Lakeland Fire Department HQ\, 929 Johnson Ave.\, Ronkonkoma\, NY\, 11779\, United States
END:VEVENT
BEGIN:VEVENT
DTSTART;TZID=America/New_York:20260131T080000
DTEND;TZID=America/New_York:20260131T170000
DTSTAMP:20260422T175726
CREATED:20251125T195122Z
LAST-MODIFIED:20260122T192215Z
UID:1129-1769846400-1769878800@lakelandfirerescue.com
SUMMARY:Surface Ice Rescue - Tech Level 1 & 2
DESCRIPTION:This area requires a Lakeland Fire Department member account
URL:https://lakelandfirerescue.com/department-event/surface-ice-rescue-tech-level-1-2/
LOCATION:NY
END:VEVENT
BEGIN:VEVENT
DTSTART;TZID=America/New_York:20260131T090000
DTEND;TZID=America/New_York:20260131T170000
DTSTAMP:20260422T175726
CREATED:20260122T192445Z
LAST-MODIFIED:20260122T192447Z
UID:1167-1769850000-1769878800@lakelandfirerescue.com
SUMMARY:2026 Long Island Metro Fire/EMS Expo
DESCRIPTION:This area requires a Lakeland Fire Department member account
URL:https://lakelandfirerescue.com/department-event/2026-long-island-metro-fire-ems-expo/
LOCATION:NY
END:VEVENT
BEGIN:VEVENT
DTSTART;TZID=America/New_York:20260201T080000
DTEND;TZID=America/New_York:20260201T170000
DTSTAMP:20260422T175726
CREATED:20260122T192258Z
LAST-MODIFIED:20260122T192323Z
UID:1165-1769932800-1769965200@lakelandfirerescue.com
SUMMARY:Surface Ice Rescue – Tech Level 1 & 2
DESCRIPTION:This area requires a Lakeland Fire Department member account
URL:https://lakelandfirerescue.com/department-event/surface-ice-rescue-tech-level-1-2-2/
LOCATION:NY
END:VEVENT
BEGIN:VEVENT
DTSTART;TZID=America/New_York:20260201T090000
DTEND;TZID=America/New_York:20260201T150000
DTSTAMP:20260422T175726
CREATED:20260122T192522Z
LAST-MODIFIED:20260122T192526Z
UID:1169-1769936400-1769958000@lakelandfirerescue.com
SUMMARY:2026 Long Island Metro Fire/EMS Expo
DESCRIPTION:This area requires a Lakeland Fire Department member account
URL:https://lakelandfirerescue.com/department-event/2026-long-island-metro-fire-ems-expo-2/
LOCATION:NY
END:VEVENT
BEGIN:VEVENT
DTSTART;TZID=America/New_York:20260202T190000
DTEND;TZID=America/New_York:20260202T210000
DTSTAMP:20260422T175726
CREATED:20251211T213800Z
LAST-MODIFIED:20251211T213824Z
UID:1139-1770058800-1770066000@lakelandfirerescue.com
SUMMARY:SCFA: Mask Confidence Drill
DESCRIPTION:This area requires a Lakeland Fire Department member account
URL:https://lakelandfirerescue.com/department-event/scfa-mask-confidence-drill/
LOCATION:Suffolk County Fire Academy\, 103 East Ave\, Yaphank\, NY\, 11980\, United States
END:VEVENT
BEGIN:VEVENT
DTSTART;TZID=America/New_York:20260208T090000
DTEND;TZID=America/New_York:20260208T110000
DTSTAMP:20260422T175726
CREATED:20260120T213205Z
LAST-MODIFIED:20260122T192416Z
UID:1163-1770541200-1770548400@lakelandfirerescue.com
SUMMARY:Officer's Meeting
DESCRIPTION:This area requires a Lakeland Fire Department member account
URL:https://lakelandfirerescue.com/department-event/officers-meeting-9/
LOCATION:Lakeland Fire Department HQ\, 929 Johnson Ave.\, Ronkonkoma\, NY\, 11779\, United States
END:VEVENT
BEGIN:VEVENT
DTSTART;TZID=America/New_York:20260225T190000
DTEND;TZID=America/New_York:20260225T210000
DTSTAMP:20260422T175726
CREATED:20260120T211440Z
LAST-MODIFIED:20260120T211507Z
UID:1157-1772046000-1772053200@lakelandfirerescue.com
SUMMARY:Forcible Entry Drill: EMS/STA1
DESCRIPTION:This area requires a Lakeland Fire Department member account
URL:https://lakelandfirerescue.com/department-event/forcible-entry-drill-ems-sta1/
LOCATION:Lakeland Fire Department Station 1\, 350 Peconic Street\, Ronkonkoma\, NY\, 11779\, United States
END:VEVENT
BEGIN:VEVENT
DTSTART;TZID=America/New_York:20260413T190000
DTEND;TZID=America/New_York:20260413T210000
DTSTAMP:20260422T175726
CREATED:20251211T213903Z
LAST-MODIFIED:20251211T213917Z
UID:1141-1776106800-1776114000@lakelandfirerescue.com
SUMMARY:SCFA: Rapid Intervention Drill
DESCRIPTION:This area requires a Lakeland Fire Department member account
URL:https://lakelandfirerescue.com/department-event/scfa-rapid-intervention-drill/
LOCATION:Suffolk County Fire Academy\, 103 East Ave\, Yaphank\, NY\, 11980\, United States
END:VEVENT
BEGIN:VEVENT
DTSTART;TZID=America/New_York:20260504T190000
DTEND;TZID=America/New_York:20260504T210000
DTSTAMP:20260422T175726
CREATED:20251211T213949Z
LAST-MODIFIED:20251211T214006Z
UID:1143-1777921200-1777928400@lakelandfirerescue.com
SUMMARY:SCFA: Class A
DESCRIPTION:This area requires a Lakeland Fire Department member account
URL:https://lakelandfirerescue.com/department-event/scfa-class-a/
LOCATION:Suffolk County Fire Academy\, 103 East Ave\, Yaphank\, NY\, 11980\, United States
END:VEVENT
BEGIN:VEVENT
DTSTART;TZID=America/New_York:20260504T190000
DTEND;TZID=America/New_York:20260504T210000
DTSTAMP:20260422T175726
CREATED:20251211T214047Z
LAST-MODIFIED:20251211T214059Z
UID:1145-1777921200-1777928400@lakelandfirerescue.com
SUMMARY:SCFA: Private Dwelling Search
DESCRIPTION:This area requires a Lakeland Fire Department member account
URL:https://lakelandfirerescue.com/department-event/scfa-private-dwelling-search/
LOCATION:Suffolk County Fire Academy\, 103 East Ave\, Yaphank\, NY\, 11980\, United States
END:VEVENT
BEGIN:VEVENT
DTSTART;TZID=America/New_York:20260803T190000
DTEND;TZID=America/New_York:20260803T210000
DTSTAMP:20260422T175726
CREATED:20251211T214133Z
LAST-MODIFIED:20251211T214143Z
UID:1147-1785783600-1785790800@lakelandfirerescue.com
SUMMARY:SCFA: High Rise Operations
DESCRIPTION:This area requires a Lakeland Fire Department member account
URL:https://lakelandfirerescue.com/department-event/scfa-high-rise-operations/
LOCATION:Suffolk County Fire Academy\, 103 East Ave\, Yaphank\, NY\, 11980\, United States
END:VEVENT
BEGIN:VEVENT
DTSTART;TZID=America/New_York:20260914T190000
DTEND;TZID=America/New_York:20260914T210000
DTSTAMP:20260422T175726
CREATED:20251211T214218Z
LAST-MODIFIED:20251211T214238Z
UID:1149-1789412400-1789419600@lakelandfirerescue.com
SUMMARY:SCFA: Taxpayer
DESCRIPTION:This area requires a Lakeland Fire Department member account
URL:https://lakelandfirerescue.com/department-event/scfa-taxpayer/
LOCATION:Suffolk County Fire Academy\, 103 East Ave\, Yaphank\, NY\, 11980\, United States
END:VEVENT
BEGIN:VEVENT
DTSTART;TZID=America/New_York:20261019T190000
DTEND;TZID=America/New_York:20261019T210000
DTSTAMP:20260422T175726
CREATED:20251211T214314Z
LAST-MODIFIED:20251211T214334Z
UID:1151-1792436400-1792443600@lakelandfirerescue.com
SUMMARY:SCFA: Low Rise Commercial Fires
DESCRIPTION:This area requires a Lakeland Fire Department member account
URL:https://lakelandfirerescue.com/department-event/scfa-low-rise-commercial-fires/
LOCATION:Suffolk County Fire Academy\, 103 East Ave\, Yaphank\, NY\, 11980\, United States
END:VEVENT
END:VCALENDAR