BEGIN:VCALENDAR
VERSION:2.0
PRODID:-//Lakeland Fire Rescue - ECPv6.15.20//NONSGML v1.0//EN
CALSCALE:GREGORIAN
METHOD:PUBLISH
X-WR-CALNAME:Lakeland Fire Rescue
X-ORIGINAL-URL:https://lakelandfirerescue.com
X-WR-CALDESC:Events for Lakeland Fire Rescue
REFRESH-INTERVAL;VALUE=DURATION:PT1H
X-Robots-Tag:noindex
X-PUBLISHED-TTL:PT1H
BEGIN:VTIMEZONE
TZID:America/New_York
BEGIN:DAYLIGHT
TZOFFSETFROM:-0500
TZOFFSETTO:-0400
TZNAME:EDT
DTSTART:20230312T070000
END:DAYLIGHT
BEGIN:STANDARD
TZOFFSETFROM:-0400
TZOFFSETTO:-0500
TZNAME:EST
DTSTART:20231105T060000
END:STANDARD
BEGIN:DAYLIGHT
TZOFFSETFROM:-0500
TZOFFSETTO:-0400
TZNAME:EDT
DTSTART:20240310T070000
END:DAYLIGHT
BEGIN:STANDARD
TZOFFSETFROM:-0400
TZOFFSETTO:-0500
TZNAME:EST
DTSTART:20241103T060000
END:STANDARD
BEGIN:DAYLIGHT
TZOFFSETFROM:-0500
TZOFFSETTO:-0400
TZNAME:EDT
DTSTART:20250309T070000
END:DAYLIGHT
BEGIN:STANDARD
TZOFFSETFROM:-0400
TZOFFSETTO:-0500
TZNAME:EST
DTSTART:20251102T060000
END:STANDARD
END:VTIMEZONE
BEGIN:VTIMEZONE
TZID:UTC
BEGIN:STANDARD
TZOFFSETFROM:+0000
TZOFFSETTO:+0000
TZNAME:UTC
DTSTART:20230101T000000
END:STANDARD
END:VTIMEZONE
BEGIN:VEVENT
DTSTART;TZID=America/New_York:20240414T090000
DTEND;TZID=America/New_York:20240414T120000
DTSTAMP:20260422T235527
CREATED:20240320T033335Z
LAST-MODIFIED:20240320T034050Z
UID:510-1713085200-1713096000@lakelandfirerescue.com
SUMMARY:Hagerman Drill
DESCRIPTION:
URL:https://lakelandfirerescue.com/department-event/hagerman-drill/
LOCATION:Hagerman Fire Department\, 510 Oakdale Ave\, East Patchogue\, New York\, 11772\, United States
END:VEVENT
BEGIN:VEVENT
DTSTART;TZID=America/New_York:20240413T180000
DTEND;TZID=America/New_York:20240414T120000
DTSTAMP:20260422T235527
CREATED:20240222T212232Z
LAST-MODIFIED:20240222T212315Z
UID:493-1713031200-1713096000@lakelandfirerescue.com
SUMMARY:EMS Standby for CIHVA
DESCRIPTION:This area requires a Lakeland Fire Department member account
URL:https://lakelandfirerescue.com/department-event/ems-standby-for-cihva/
LOCATION:NY
END:VEVENT
BEGIN:VEVENT
DTSTART;TZID=UTC:20240408T190000
DTEND;TZID=UTC:20240408T210000
DTSTAMP:20260422T235527
CREATED:20231222T001424Z
LAST-MODIFIED:20240104T031157Z
UID:166-1712602800-1712610000@lakelandfirerescue.com
SUMMARY:Thermal Imaging Camera Drill
DESCRIPTION:This area requires a Lakeland Fire Department member account
URL:https://lakelandfirerescue.com/department-event/thermal-imaging-camera/
LOCATION:Suffolk County Fire Academy\, 103 East Ave\, Yaphank\, NY\, 11980\, United States
END:VEVENT
BEGIN:VEVENT
DTSTART;TZID=America/New_York:20240407T090000
DTEND;TZID=America/New_York:20240407T100000
DTSTAMP:20260422T235527
CREATED:20240320T143132Z
LAST-MODIFIED:20240320T143203Z
UID:531-1712480400-1712484000@lakelandfirerescue.com
SUMMARY:Officer's Meeting
DESCRIPTION:This area requires a Lakeland Fire Department member account
URL:https://lakelandfirerescue.com/department-event/lfd-officers-meeting/
LOCATION:Lakeland Fire Department Station 2\, 2415 Motor Pkwy\, Ronkonkoma\, NY\, 11779\, United States
END:VEVENT
BEGIN:VEVENT
DTSTART;TZID=America/New_York:20240326T190000
DTEND;TZID=America/New_York:20240326T210000
DTSTAMP:20260422T235527
CREATED:20240304T215925Z
LAST-MODIFIED:20240304T220007Z
UID:496-1711479600-1711486800@lakelandfirerescue.com
SUMMARY:EMS Drill:  BLS for ALS Support -- ALS Drug Bag Review
DESCRIPTION:This area requires a Lakeland Fire Department member account
URL:https://lakelandfirerescue.com/department-event/ems-drill-bls-for-als-support-als-drug-bag-review/
LOCATION:Lakeland Fire Department Station 2\, 2415 Motor Pkwy\, Ronkonkoma\, NY\, 11779\, United States
END:VEVENT
BEGIN:VEVENT
DTSTART;TZID=America/New_York:20240325T190000
DTEND;TZID=America/New_York:20240325T210000
DTSTAMP:20260422T235527
CREATED:20240325T173041Z
LAST-MODIFIED:20240325T173142Z
UID:549-1711393200-1711400400@lakelandfirerescue.com
SUMMARY:Wake for Stephanie Pitka-Carr\, Sister of Ex-Chief Greg Pitka
DESCRIPTION:This area requires a Lakeland Fire Department member account
URL:https://lakelandfirerescue.com/department-event/wake-for-stephanie-pitka-carr-sister-of-ex-chief-greg-pitka-2/
LOCATION:Maloney’s Funeral Home\, 132 Ronkonkoma Avenue\, Lake Ronkonkoma\, New York\, 11779\, United States
END:VEVENT
BEGIN:VEVENT
DTSTART;TZID=America/New_York:20240325T140000
DTEND;TZID=America/New_York:20240325T160000
DTSTAMP:20260422T235527
CREATED:20240325T172824Z
LAST-MODIFIED:20240325T173124Z
UID:544-1711375200-1711382400@lakelandfirerescue.com
SUMMARY:Wake for Stephanie Pitka-Carr\, Sister of Ex-Chief Greg Pitka
DESCRIPTION:This area requires a Lakeland Fire Department member account
URL:https://lakelandfirerescue.com/department-event/wake-for-stephanie-pitka-carr-sister-of-ex-chief-greg-pitka/
LOCATION:Maloney’s Funeral Home\, 132 Ronkonkoma Avenue\, Lake Ronkonkoma\, New York\, 11779\, United States
END:VEVENT
BEGIN:VEVENT
DTSTART;TZID=America/New_York:20240324T140000
DTEND;TZID=America/New_York:20240324T160000
DTSTAMP:20260422T235527
CREATED:20240123T194814Z
LAST-MODIFIED:20240123T194815Z
UID:439-1711288800-1711296000@lakelandfirerescue.com
SUMMARY:Ronkonkoma Saint Patrick's Parade
DESCRIPTION:This area requires a Lakeland Fire Department member account
URL:https://lakelandfirerescue.com/department-event/ronkonkoma-saint-patricks-parade/
LOCATION:NY
CATEGORIES:Public_Events
END:VEVENT
BEGIN:VEVENT
DTSTART;TZID=America/New_York:20240318T190000
DTEND;TZID=America/New_York:20240318T190000
DTSTAMP:20260422T235527
CREATED:20240213T050309Z
LAST-MODIFIED:20240213T050347Z
UID:486-1710788400-1710788400@lakelandfirerescue.com
SUMMARY:SCBA Qualification
DESCRIPTION:This area requires a Lakeland Fire Department member account
URL:https://lakelandfirerescue.com/department-event/scba-qualification-5/
LOCATION:Central Islip Fire Department Station 2\, 110 County Rd 17\, Central Islip\, New York\, 11722
END:VEVENT
BEGIN:VEVENT
DTSTART;TZID=America/New_York:20240314T190000
DTEND;TZID=America/New_York:20240314T213000
DTSTAMP:20260422T235527
CREATED:20240125T224109Z
LAST-MODIFIED:20240125T224111Z
UID:452-1710442800-1710451800@lakelandfirerescue.com
SUMMARY:Pet CPR & First Aid for First Responders
DESCRIPTION:This area requires a Lakeland Fire Department member account
URL:https://lakelandfirerescue.com/department-event/pet-cpr-first-aid-for-first-responders/
LOCATION:Islip Town Fire Museum\, 4 Courthouse Drive\, Central Islip\, New York\, 11722\, United States
CATEGORIES:Public_Events
END:VEVENT
BEGIN:VEVENT
DTSTART;TZID=America/New_York:20240311T190000
DTEND;TZID=America/New_York:20240311T190000
DTSTAMP:20260422T235527
CREATED:20240213T050151Z
LAST-MODIFIED:20240213T050403Z
UID:484-1710183600-1710183600@lakelandfirerescue.com
SUMMARY:SCBA Qualification
DESCRIPTION:This area requires a Lakeland Fire Department member account
URL:https://lakelandfirerescue.com/department-event/scba-qualification-4/
LOCATION:Central Islip Fire Department Station 2\, 110 County Rd 17\, Central Islip\, New York\, 11722
END:VEVENT
BEGIN:VEVENT
DTSTART;TZID=America/New_York:20240305T180000
DTEND;TZID=America/New_York:20240305T200000
DTSTAMP:20260422T235527
CREATED:20240216T184717Z
LAST-MODIFIED:20240216T184757Z
UID:489-1709661600-1709668800@lakelandfirerescue.com
SUMMARY:CHS Career Night
DESCRIPTION:This area requires a Lakeland Fire Department member account
URL:https://lakelandfirerescue.com/department-event/chs-career-night/
LOCATION:Connetquot High School\, 190 7th Street\, Bohemia\, New York\, 11716
CATEGORIES:Public_Events
END:VEVENT
BEGIN:VEVENT
DTSTART;TZID=America/New_York:20240304T190000
DTEND;TZID=America/New_York:20240304T190000
DTSTAMP:20260422T235527
CREATED:20240213T050104Z
LAST-MODIFIED:20240213T050105Z
UID:482-1709578800-1709578800@lakelandfirerescue.com
SUMMARY:SCBA Qualification
DESCRIPTION:This area requires a Lakeland Fire Department member account
URL:https://lakelandfirerescue.com/department-event/scba-qualification-3/
LOCATION:Central Islip Fire Department Station 2\, 110 County Rd 17\, Central Islip\, New York\, 11722
END:VEVENT
BEGIN:VEVENT
DTSTART;TZID=America/New_York:20240303T140000
DTEND;TZID=America/New_York:20240303T170000
DTSTAMP:20260422T235527
CREATED:20240123T194557Z
LAST-MODIFIED:20240123T194620Z
UID:435-1709474400-1709485200@lakelandfirerescue.com
SUMMARY:East Islip Saint Patrick's Day Parade
DESCRIPTION:This area requires a Lakeland Fire Department member account
URL:https://lakelandfirerescue.com/department-event/east-islip-saint-patricks-day-parade/
LOCATION:NY
CATEGORIES:Public_Events
END:VEVENT
BEGIN:VEVENT
DTSTART;TZID=America/New_York:20240303T090000
DTEND;TZID=America/New_York:20240303T100000
DTSTAMP:20260422T235527
CREATED:20240206T182130Z
LAST-MODIFIED:20240206T182154Z
UID:462-1709456400-1709460000@lakelandfirerescue.com
SUMMARY:Officer's Meeting
DESCRIPTION:This area requires a Lakeland Fire Department member account
URL:https://lakelandfirerescue.com/department-event/officers-meeting-3/
LOCATION:Lakeland Fire Department Station 2\, 2415 Motor Pkwy\, Ronkonkoma\, NY\, 11779\, United States
END:VEVENT
BEGIN:VEVENT
DTSTART;TZID=America/New_York:20240226T190000
DTEND;TZID=America/New_York:20240226T190000
DTSTAMP:20260422T235527
CREATED:20240213T030948Z
LAST-MODIFIED:20240213T045958Z
UID:473-1708974000-1708974000@lakelandfirerescue.com
SUMMARY:SCBA Qualification
DESCRIPTION:This area requires a Lakeland Fire Department member account
URL:https://lakelandfirerescue.com/department-event/scba-qualification-2/
LOCATION:Central Islip Fire Department Station 2\, 110 County Rd 17\, Central Islip\, New York\, 11722
END:VEVENT
BEGIN:VEVENT
DTSTART;TZID=America/New_York:20240224T190000
DTEND;TZID=America/New_York:20240224T230000
DTSTAMP:20260422T235527
CREATED:20240111T191923Z
LAST-MODIFIED:20240125T012141Z
UID:407-1708801200-1708815600@lakelandfirerescue.com
SUMMARY:LFD Installation Dinner
DESCRIPTION:This area requires a Lakeland Fire Department member account
URL:https://lakelandfirerescue.com/department-event/lfd-installation-dinner/
LOCATION:Hilton Hotel\, 598 Broadhollow Rd\, Melville\, New York\, 11747
END:VEVENT
BEGIN:VEVENT
DTSTART;TZID=America/New_York:20240219T190000
DTEND;TZID=America/New_York:20240219T190000
DTSTAMP:20260422T235527
CREATED:20240213T030508Z
LAST-MODIFIED:20240213T045840Z
UID:471-1708369200-1708369200@lakelandfirerescue.com
SUMMARY:SCBA Qualification
DESCRIPTION:This area requires a Lakeland Fire Department member account
URL:https://lakelandfirerescue.com/department-event/scba-qualification/
LOCATION:Central Islip Fire Department Station 2\, 110 County Rd 17\, Central Islip\, New York\, 11722
END:VEVENT
BEGIN:VEVENT
DTSTART;TZID=America/New_York:20240215T090000
DTEND;TZID=America/New_York:20240215T100000
DTSTAMP:20260422T235527
CREATED:20240207T205500Z
LAST-MODIFIED:20240207T205544Z
UID:469-1707987600-1707991200@lakelandfirerescue.com
SUMMARY:Bunker Gear Nameplates
DESCRIPTION:This area requires a Lakeland Fire Department member account
URL:https://lakelandfirerescue.com/department-event/bunker-gear-nameplates/
LOCATION:Lakeland Fire Department Station 2\, 2415 Motor Pkwy\, Ronkonkoma\, NY\, 11779\, United States
END:VEVENT
BEGIN:VEVENT
DTSTART;TZID=America/New_York:20240211T080000
DTEND;TZID=America/New_York:20240211T170000
DTSTAMP:20260422T235527
CREATED:20240104T033946Z
LAST-MODIFIED:20240104T034337Z
UID:281-1707638400-1707670800@lakelandfirerescue.com
SUMMARY:HQ - Super Bowl Donation Event
DESCRIPTION:This area requires a Lakeland Fire Department member account
URL:https://lakelandfirerescue.com/department-event/hq-super-bowl-pool-fundraiser/
LOCATION:Lakeland Fire Department HQ\, 929 Johnson Ave.\, Ronkonkoma\, NY\, 11779\, United States
CATEGORIES:Public_Events
END:VEVENT
BEGIN:VEVENT
DTSTART;TZID=America/New_York:20240207T190000
DTEND;TZID=America/New_York:20240207T210000
DTSTAMP:20260422T235527
CREATED:20240207T205235Z
LAST-MODIFIED:20240207T205531Z
UID:464-1707332400-1707339600@lakelandfirerescue.com
SUMMARY:Elevator Class @RFD
DESCRIPTION:This area requires a Lakeland Fire Department member account
URL:https://lakelandfirerescue.com/department-event/elevator-class-rfd/
LOCATION:Ronkonkoma Fire Department\, 177 Portion Road\, Ronkonkoma\, New York\, 11779
END:VEVENT
BEGIN:VEVENT
DTSTART;TZID=America/New_York:20240206T193000
DTEND;TZID=America/New_York:20240206T203000
DTSTAMP:20260422T235527
CREATED:20240125T180236Z
LAST-MODIFIED:20240125T191639Z
UID:443-1707247800-1707251400@lakelandfirerescue.com
SUMMARY:EMS Company Meeting
DESCRIPTION:This area requires a Lakeland Fire Department member account
URL:https://lakelandfirerescue.com/department-event/ems-company-meeting/
LOCATION:Lakeland Fire Department Station 2\, 2415 Motor Pkwy\, Ronkonkoma\, NY\, 11779\, United States
END:VEVENT
BEGIN:VEVENT
DTSTART;TZID=America/New_York:20240205T183000
DTEND;TZID=America/New_York:20240205T193000
DTSTAMP:20260422T235527
CREATED:20240123T171704Z
LAST-MODIFIED:20240123T171705Z
UID:433-1707157800-1707161400@lakelandfirerescue.com
SUMMARY:Officer's Meeting
DESCRIPTION:This area requires a Lakeland Fire Department member account
URL:https://lakelandfirerescue.com/department-event/officers-meeting-2/
LOCATION:Lakeland Fire Department Station 2\, 2415 Motor Pkwy\, Ronkonkoma\, NY\, 11779\, United States
END:VEVENT
BEGIN:VEVENT
DTSTART;TZID=America/New_York:20240204T090000
DTEND;TZID=America/New_York:20240204T150000
DTSTAMP:20260422T235527
CREATED:20240118T175114Z
LAST-MODIFIED:20240125T223012Z
UID:430-1707037200-1707058800@lakelandfirerescue.com
SUMMARY:2024 LONG ISLAND METRO FIRE/EMS EXPO
DESCRIPTION:This area requires a Lakeland Fire Department member account
URL:https://lakelandfirerescue.com/department-event/2024-long-island-metro-fire-ems-expo-3/
LOCATION:Nassau Coliseum\, 1255 Hempstead Tpke\, Uniondale\, New York\, 11553\, United States
CATEGORIES:Public_Events
END:VEVENT
BEGIN:VEVENT
DTSTART;TZID=America/New_York:20240203T090000
DTEND;TZID=America/New_York:20240203T170000
DTSTAMP:20260422T235527
CREATED:20240118T174938Z
LAST-MODIFIED:20240125T223144Z
UID:427-1706950800-1706979600@lakelandfirerescue.com
SUMMARY:2024 LONG ISLAND METRO FIRE/EMS EXPO
DESCRIPTION:This area requires a Lakeland Fire Department member account
URL:https://lakelandfirerescue.com/department-event/2024-long-island-metro-fire-ems-expo-2/
LOCATION:Nassau Coliseum\, 1255 Hempstead Tpke\, Uniondale\, New York\, 11553\, United States
CATEGORIES:Public_Events
END:VEVENT
BEGIN:VEVENT
DTSTART;TZID=America/New_York:20240202T150000
DTEND;TZID=America/New_York:20240202T190000
DTSTAMP:20260422T235527
CREATED:20240118T174736Z
LAST-MODIFIED:20240125T222709Z
UID:422-1706886000-1706900400@lakelandfirerescue.com
SUMMARY:2024 LONG ISLAND METRO FIRE/EMS EXPO
DESCRIPTION:This area requires a Lakeland Fire Department member account
URL:https://lakelandfirerescue.com/department-event/2024-long-island-metro-fire-ems-expo/
LOCATION:Nassau Coliseum\, 1255 Hempstead Tpke\, Uniondale\, New York\, 11553\, United States
CATEGORIES:Public_Events
END:VEVENT
BEGIN:VEVENT
DTSTART;TZID=America/New_York:20240131T193000
DTEND;TZID=America/New_York:20240131T193000
DTSTAMP:20260422T235527
CREATED:20240130T152002Z
LAST-MODIFIED:20240130T152231Z
UID:457-1706729400-1706729400@lakelandfirerescue.com
SUMMARY:Firematic Funeral Service for Bernard Mancuso
DESCRIPTION:This area requires a Lakeland Fire Department member account
URL:https://lakelandfirerescue.com/department-event/firematic-funeral-service-for-bernard-mancuso/
LOCATION:Moloney-Sinnicksons Moriches Funeral Home\, 203 Main St\, Center Moriches\, New York\, 11934
END:VEVENT
BEGIN:VEVENT
DTSTART;TZID=America/New_York:20240129T183000
DTEND;TZID=America/New_York:20240129T233000
DTSTAMP:20260422T235527
CREATED:20240125T231941Z
LAST-MODIFIED:20240125T232210Z
UID:455-1706553000-1706571000@lakelandfirerescue.com
SUMMARY:EMS Apparatus Yearly Inventory
DESCRIPTION:This area requires a Lakeland Fire Department member account
URL:https://lakelandfirerescue.com/department-event/ems-apparatus-yearly-inventory/
LOCATION:Lakeland Fire Department Station 2\, 2415 Motor Pkwy\, Ronkonkoma\, NY\, 11779\, United States
END:VEVENT
BEGIN:VEVENT
DTSTART;TZID=America/New_York:20240127T150000
DTEND;TZID=America/New_York:20240127T160000
DTSTAMP:20260422T235527
CREATED:20240118T000624Z
LAST-MODIFIED:20240118T000625Z
UID:413-1706367600-1706371200@lakelandfirerescue.com
SUMMARY:Retirement Party - Pat Halpin & Vinny LIberato
DESCRIPTION:This area requires a Lakeland Fire Department member account
URL:https://lakelandfirerescue.com/department-event/retirement-party-pat-halpin-vinny-liberato/
LOCATION:4th Precinct\, 727 Veterans Memorial Hwy\, \, Smithtown\, New York\, 11788\, United States
END:VEVENT
BEGIN:VEVENT
DTSTART;TZID=America/New_York:20240123T190000
DTEND;TZID=America/New_York:20240123T210000
DTSTAMP:20260422T235527
CREATED:20240118T174013Z
LAST-MODIFIED:20240118T174014Z
UID:418-1706036400-1706043600@lakelandfirerescue.com
SUMMARY:Benevolent Meeting
DESCRIPTION:This area requires a Lakeland Fire Department member account
URL:https://lakelandfirerescue.com/department-event/benevolent-meeting/
LOCATION:Lakeland Fire Department Station 2\, 2415 Motor Pkwy\, Ronkonkoma\, NY\, 11779\, United States
END:VEVENT
END:VCALENDAR