BEGIN:VCALENDAR
VERSION:2.0
PRODID:-//Lakeland Fire Rescue - ECPv6.15.20//NONSGML v1.0//EN
CALSCALE:GREGORIAN
METHOD:PUBLISH
X-WR-CALNAME:Lakeland Fire Rescue
X-ORIGINAL-URL:https://lakelandfirerescue.com
X-WR-CALDESC:Events for Lakeland Fire Rescue
REFRESH-INTERVAL;VALUE=DURATION:PT1H
X-Robots-Tag:noindex
X-PUBLISHED-TTL:PT1H
BEGIN:VTIMEZONE
TZID:America/New_York
BEGIN:DAYLIGHT
TZOFFSETFROM:-0500
TZOFFSETTO:-0400
TZNAME:EDT
DTSTART:20230312T070000
END:DAYLIGHT
BEGIN:STANDARD
TZOFFSETFROM:-0400
TZOFFSETTO:-0500
TZNAME:EST
DTSTART:20231105T060000
END:STANDARD
BEGIN:DAYLIGHT
TZOFFSETFROM:-0500
TZOFFSETTO:-0400
TZNAME:EDT
DTSTART:20240310T070000
END:DAYLIGHT
BEGIN:STANDARD
TZOFFSETFROM:-0400
TZOFFSETTO:-0500
TZNAME:EST
DTSTART:20241103T060000
END:STANDARD
BEGIN:DAYLIGHT
TZOFFSETFROM:-0500
TZOFFSETTO:-0400
TZNAME:EDT
DTSTART:20250309T070000
END:DAYLIGHT
BEGIN:STANDARD
TZOFFSETFROM:-0400
TZOFFSETTO:-0500
TZNAME:EST
DTSTART:20251102T060000
END:STANDARD
END:VTIMEZONE
BEGIN:VEVENT
DTSTART;TZID=America/New_York:20240117T200000
DTEND;TZID=America/New_York:20240117T210000
DTSTAMP:20260425T122452
CREATED:20240103T032317Z
LAST-MODIFIED:20240104T034044Z
UID:218-1705521600-1705525200@lakelandfirerescue.com
SUMMARY:Department Meeting
DESCRIPTION:
URL:https://lakelandfirerescue.com/department-event/department-meeting/
LOCATION:Lakeland Fire Department Station 2\, 2415 Motor Pkwy\, Ronkonkoma\, NY\, 11779\, United States
END:VEVENT
BEGIN:VEVENT
DTSTART;TZID=America/New_York:20240109T193000
DTEND;TZID=America/New_York:20240109T203000
DTSTAMP:20260425T122452
CREATED:20240103T032421Z
LAST-MODIFIED:20240125T222941Z
UID:220-1704828600-1704832200@lakelandfirerescue.com
SUMMARY:EMS Company Meeting
DESCRIPTION:
URL:https://lakelandfirerescue.com/department-event/ems-department-meeting/
LOCATION:Lakeland Fire Department Station 2\, 2415 Motor Pkwy\, Ronkonkoma\, NY\, 11779\, United States
END:VEVENT
BEGIN:VEVENT
DTSTART;TZID=America/New_York:20240108T183000
DTEND;TZID=America/New_York:20240108T193000
DTSTAMP:20260425T122452
CREATED:20240103T031932Z
LAST-MODIFIED:20240104T031410Z
UID:209-1704738600-1704742200@lakelandfirerescue.com
SUMMARY:Officer's Meeting
DESCRIPTION:First officer’s meeting of 2024
URL:https://lakelandfirerescue.com/department-event/officers-meeting/
LOCATION:Lakeland Fire Department Station 2\, 2415 Motor Pkwy\, Ronkonkoma\, NY\, 11779\, United States
END:VEVENT
END:VCALENDAR