BEGIN:VCALENDAR
VERSION:2.0
PRODID:-//Lakeland Fire Rescue - ECPv6.15.20//NONSGML v1.0//EN
CALSCALE:GREGORIAN
METHOD:PUBLISH
X-WR-CALNAME:Lakeland Fire Rescue
X-ORIGINAL-URL:https://lakelandfirerescue.com
X-WR-CALDESC:Events for Lakeland Fire Rescue
REFRESH-INTERVAL;VALUE=DURATION:PT1H
X-Robots-Tag:noindex
X-PUBLISHED-TTL:PT1H
BEGIN:VTIMEZONE
TZID:America/New_York
BEGIN:DAYLIGHT
TZOFFSETFROM:-0500
TZOFFSETTO:-0400
TZNAME:EDT
DTSTART:20230312T070000
END:DAYLIGHT
BEGIN:STANDARD
TZOFFSETFROM:-0400
TZOFFSETTO:-0500
TZNAME:EST
DTSTART:20231105T060000
END:STANDARD
BEGIN:DAYLIGHT
TZOFFSETFROM:-0500
TZOFFSETTO:-0400
TZNAME:EDT
DTSTART:20240310T070000
END:DAYLIGHT
BEGIN:STANDARD
TZOFFSETFROM:-0400
TZOFFSETTO:-0500
TZNAME:EST
DTSTART:20241103T060000
END:STANDARD
BEGIN:DAYLIGHT
TZOFFSETFROM:-0500
TZOFFSETTO:-0400
TZNAME:EDT
DTSTART:20250309T070000
END:DAYLIGHT
BEGIN:STANDARD
TZOFFSETFROM:-0400
TZOFFSETTO:-0500
TZNAME:EST
DTSTART:20251102T060000
END:STANDARD
END:VTIMEZONE
BEGIN:VTIMEZONE
TZID:UTC
BEGIN:STANDARD
TZOFFSETFROM:+0000
TZOFFSETTO:+0000
TZNAME:UTC
DTSTART:20230101T000000
END:STANDARD
END:VTIMEZONE
BEGIN:VEVENT
DTSTART;TZID=America/New_York:20240909T183000
DTEND;TZID=America/New_York:20240909T203000
DTSTAMP:20260422T183522
CREATED:20240829T174922Z
LAST-MODIFIED:20240829T174948Z
UID:707-1725906600-1725913800@lakelandfirerescue.com
SUMMARY:Officer's Meeting
DESCRIPTION:LFD Officer’s Meeting
URL:https://lakelandfirerescue.com/department-event/officers-meeting-6/
LOCATION:Lakeland Fire Department Station 2\, 2415 Motor Pkwy\, Ronkonkoma\, NY\, 11779\, United States
END:VEVENT
BEGIN:VEVENT
DTSTART;TZID=America/New_York:20240823T180000
DTEND;TZID=America/New_York:20240823T220000
DTSTAMP:20260422T183522
CREATED:20240822T151244Z
LAST-MODIFIED:20240822T151314Z
UID:668-1724436000-1724450400@lakelandfirerescue.com
SUMMARY:Islip Town Tournament (NYS FD Drill)
DESCRIPTION:This area requires a Lakeland Fire Department member account
URL:https://lakelandfirerescue.com/department-event/islip-town-tournament-nys-fd-drill/
LOCATION:Central Islip Fire Department Station 2\, 110 County Rd 17\, Central Islip\, New York\, 11722
END:VEVENT
BEGIN:VEVENT
DTSTART;TZID=America/New_York:20240821T200000
DTEND;TZID=America/New_York:20240821T210000
DTSTAMP:20260422T183522
CREATED:20240718T201053Z
LAST-MODIFIED:20240718T201108Z
UID:652-1724270400-1724274000@lakelandfirerescue.com
SUMMARY:Department Meeting
DESCRIPTION:This area requires a Lakeland Fire Department member account
URL:https://lakelandfirerescue.com/department-event/department-meeting-3/
LOCATION:Lakeland Fire Department Station 2\, 2415 Motor Pkwy\, Ronkonkoma\, NY\, 11779\, United States
END:VEVENT
BEGIN:VEVENT
DTSTART;TZID=UTC:20240819T190000
DTEND;TZID=UTC:20240819T210000
DTSTAMP:20260422T183522
CREATED:20231222T002616Z
LAST-MODIFIED:20240104T030939Z
UID:178-1724094000-1724101200@lakelandfirerescue.com
SUMMARY:CLASS A
DESCRIPTION:This area requires a Lakeland Fire Department member account
URL:https://lakelandfirerescue.com/department-event/class-a/
LOCATION:Suffolk County Fire Academy\, 103 East Ave\, Yaphank\, NY\, 11980\, United States
END:VEVENT
BEGIN:VEVENT
DTSTART;TZID=America/New_York:20240818T140000
DTEND;TZID=America/New_York:20240818T170000
DTSTAMP:20260422T183522
CREATED:20240617T154420Z
LAST-MODIFIED:20240617T154703Z
UID:592-1723989600-1724000400@lakelandfirerescue.com
SUMMARY:NY State Parade
DESCRIPTION:This area requires a Lakeland Fire Department member account
URL:https://lakelandfirerescue.com/department-event/ny-state-parade/
LOCATION:NY
END:VEVENT
BEGIN:VEVENT
DTSTART;TZID=America/New_York:20240810T180000
DTEND;TZID=America/New_York:20240810T230000
DTSTAMP:20260422T183522
CREATED:20240617T154328Z
LAST-MODIFIED:20240717T141453Z
UID:590-1723312800-1723330800@lakelandfirerescue.com
SUMMARY:Islip Town Parade
DESCRIPTION:This area requires a Lakeland Fire Department member account
URL:https://lakelandfirerescue.com/department-event/county-parade/
LOCATION:NY
END:VEVENT
BEGIN:VEVENT
DTSTART;TZID=America/New_York:20240806T190000
DTEND;TZID=America/New_York:20240806T210000
DTSTAMP:20260422T183522
CREATED:20240717T141028Z
LAST-MODIFIED:20240717T141049Z
UID:621-1722970800-1722978000@lakelandfirerescue.com
SUMMARY:EMS Drill: Aviation Resource Review
DESCRIPTION:This area requires a Lakeland Fire Department member account
URL:https://lakelandfirerescue.com/department-event/ems-drill-aviation-resource-review/
LOCATION:NY
END:VEVENT
BEGIN:VEVENT
DTSTART;TZID=America/New_York:20240805T190000
DTEND;TZID=America/New_York:20240805T220000
DTSTAMP:20260422T183522
CREATED:20240320T034151Z
LAST-MODIFIED:20240320T034153Z
UID:522-1722884400-1722895200@lakelandfirerescue.com
SUMMARY:Hagerman Drill
DESCRIPTION:This area requires a Lakeland Fire Department member account
URL:https://lakelandfirerescue.com/department-event/hagerman-drill-6/
LOCATION:Hagerman Fire Department\, 510 Oakdale Ave\, East Patchogue\, New York\, 11772\, United States
END:VEVENT
BEGIN:VEVENT
DTSTART;TZID=America/New_York:20240730T190000
DTEND;TZID=America/New_York:20240730T210000
DTSTAMP:20260422T183522
CREATED:20240320T032955Z
LAST-MODIFIED:20240717T150548Z
UID:508-1722366000-1722373200@lakelandfirerescue.com
SUMMARY:Suffolk County Trauma Triage Update (CME)
DESCRIPTION:This area requires a Lakeland Fire Department member account
URL:https://lakelandfirerescue.com/department-event/trauma-cme/
LOCATION:Lakeland Fire Department Station 2\, 2415 Motor Pkwy\, Ronkonkoma\, NY\, 11779\, United States
END:VEVENT
BEGIN:VEVENT
DTSTART;TZID=America/New_York:20240728T081500
DTEND;TZID=America/New_York:20240728T110000
DTSTAMP:20260422T183522
CREATED:20240718T201258Z
LAST-MODIFIED:20240718T201323Z
UID:655-1722154500-1722164400@lakelandfirerescue.com
SUMMARY:Tech Rescue Drill
DESCRIPTION:This area requires a Lakeland Fire Department member account
URL:https://lakelandfirerescue.com/department-event/tech-rescue-drill/
LOCATION:Lakeland Fire Department Station 1\, 350 Peconic Street\, Ronkonkoma\, NY\, 11779\, United States
END:VEVENT
BEGIN:VEVENT
DTSTART;TZID=America/New_York:20240721T070000
DTEND;TZID=America/New_York:20240721T150000
DTSTAMP:20260422T183522
CREATED:20240513T180304Z
LAST-MODIFIED:20240624T131548Z
UID:574-1721545200-1721574000@lakelandfirerescue.com
SUMMARY:LFD Fishing Trip
DESCRIPTION:This area requires a Lakeland Fire Department member account
URL:https://lakelandfirerescue.com/department-event/lfd-fishing-trip/
LOCATION:NY
END:VEVENT
BEGIN:VEVENT
DTSTART;TZID=America/New_York:20240717T200000
DTEND;TZID=America/New_York:20240717T220000
DTSTAMP:20260422T183522
CREATED:20240717T143407Z
LAST-MODIFIED:20240717T143452Z
UID:633-1721246400-1721253600@lakelandfirerescue.com
SUMMARY:LFD Department Meeting
DESCRIPTION:This area requires a Lakeland Fire Department member account
URL:https://lakelandfirerescue.com/department-event/lfd-department-meeting/
LOCATION:Lakeland Fire Department Station 2\, 2415 Motor Pkwy\, Ronkonkoma\, NY\, 11779\, United States
END:VEVENT
BEGIN:VEVENT
DTSTART;TZID=America/New_York:20240715T183000
DTEND;TZID=America/New_York:20240715T203000
DTSTAMP:20260422T183522
CREATED:20240625T141412Z
LAST-MODIFIED:20240717T144700Z
UID:605-1721068200-1721075400@lakelandfirerescue.com
SUMMARY:LFD Officer's Meeting
DESCRIPTION:This area requires a Lakeland Fire Department member account
URL:https://lakelandfirerescue.com/department-event/officers-meeting-5/
LOCATION:Lakeland Fire Department Station 2\, 2415 Motor Pkwy\, Ronkonkoma\, NY\, 11779\, United States
END:VEVENT
BEGIN:VEVENT
DTSTART;TZID=UTC:20240708T190000
DTEND;TZID=UTC:20240708T210000
DTSTAMP:20260422T183522
CREATED:20231222T002512Z
LAST-MODIFIED:20240104T031026Z
UID:175-1720465200-1720472400@lakelandfirerescue.com
SUMMARY:LIRR Safety and Awareness
DESCRIPTION:This area requires a Lakeland Fire Department member account
URL:https://lakelandfirerescue.com/department-event/lirr-safety-and-awareness/
LOCATION:Suffolk County Fire Academy\, 103 East Ave\, Yaphank\, NY\, 11980\, United States
END:VEVENT
BEGIN:VEVENT
DTSTART;TZID=America/New_York:20240630T093000
DTEND;TZID=America/New_York:20240630T120000
DTSTAMP:20260422T183522
CREATED:20240320T033624Z
LAST-MODIFIED:20240625T144729Z
UID:516-1719739800-1719748800@lakelandfirerescue.com
SUMMARY:Department Drill
DESCRIPTION:This area requires a Lakeland Fire Department member account
URL:https://lakelandfirerescue.com/department-event/hagerman-drill-3/
LOCATION:Lakeland Fire Department Station 1\, 350 Peconic Street\, Ronkonkoma\, NY\, 11779\, United States
END:VEVENT
BEGIN:VEVENT
DTSTART;TZID=America/New_York:20240626T173000
DTEND;TZID=America/New_York:20240626T210000
DTSTAMP:20260422T183522
CREATED:20240625T145014Z
LAST-MODIFIED:20240625T145048Z
UID:610-1719423000-1719435600@lakelandfirerescue.com
SUMMARY:CHS STANDBY
DESCRIPTION:This area requires a Lakeland Fire Department member account
URL:https://lakelandfirerescue.com/department-event/chs-standby/
LOCATION:Connetquot High School\, 190 7th Street\, Bohemia\, New York\, 11716
END:VEVENT
BEGIN:VEVENT
DTSTART;TZID=America/New_York:20240626T120000
DTEND;TZID=America/New_York:20240626T130000
DTSTAMP:20260422T183522
CREATED:20240617T191239Z
LAST-MODIFIED:20240624T131318Z
UID:602-1719403200-1719406800@lakelandfirerescue.com
SUMMARY:ESO Billing In-Service
DESCRIPTION:This area requires a Lakeland Fire Department member account
URL:https://lakelandfirerescue.com/department-event/eso-billing-in-service-3/
LOCATION:NY
END:VEVENT
BEGIN:VEVENT
DTSTART;TZID=America/New_York:20240622T080000
DTEND;TZID=America/New_York:20240622T170000
DTSTAMP:20260422T183522
CREATED:20240513T175459Z
LAST-MODIFIED:20240513T175542Z
UID:566-1719043200-1719075600@lakelandfirerescue.com
SUMMARY:Michael Murphy Run around the Lake
DESCRIPTION:This area requires a Lakeland Fire Department member account
URL:https://lakelandfirerescue.com/department-event/michael-murphy-run-around-the-lake/
LOCATION:NY
END:VEVENT
BEGIN:VEVENT
DTSTART;TZID=America/New_York:20240620T190000
DTEND;TZID=America/New_York:20240620T210000
DTSTAMP:20260422T183522
CREATED:20240617T182036Z
LAST-MODIFIED:20240617T191311Z
UID:600-1718910000-1718917200@lakelandfirerescue.com
SUMMARY:ESO Billing In-Service
DESCRIPTION:This area requires a Lakeland Fire Department member account
URL:https://lakelandfirerescue.com/department-event/eso-billing-in-service-2/
LOCATION:NY
END:VEVENT
BEGIN:VEVENT
DTSTART;TZID=America/New_York:20240618T190000
DTEND;TZID=America/New_York:20240618T210000
DTSTAMP:20260422T183522
CREATED:20240617T181939Z
LAST-MODIFIED:20240617T191319Z
UID:598-1718737200-1718744400@lakelandfirerescue.com
SUMMARY:ESO Billing In-Service
DESCRIPTION:This area requires a Lakeland Fire Department member account
URL:https://lakelandfirerescue.com/department-event/eso-billing-in-service/
LOCATION:Lakeland Fire Department Station 2\, 2415 Motor Pkwy\, Ronkonkoma\, NY\, 11779\, United States
END:VEVENT
BEGIN:VEVENT
DTSTART;TZID=UTC:20240610T190000
DTEND;TZID=UTC:20240610T210000
DTSTAMP:20260422T183522
CREATED:20231222T002336Z
LAST-MODIFIED:20240604T000153Z
UID:172-1718046000-1718053200@lakelandfirerescue.com
SUMMARY:Taxpayer Drill
DESCRIPTION:This area requires a Lakeland Fire Department member account
URL:https://lakelandfirerescue.com/department-event/taxpayer-drill/
LOCATION:Suffolk County Fire Academy\, 103 East Ave\, Yaphank\, NY\, 11980\, United States
END:VEVENT
BEGIN:VEVENT
DTSTART;TZID=America/New_York:20240608T080000
DTEND;TZID=America/New_York:20240608T170000
DTSTAMP:20260422T183522
CREATED:20240522T155820Z
LAST-MODIFIED:20240522T155845Z
UID:583-1717833600-1717866000@lakelandfirerescue.com
SUMMARY:H.O.T Forcible Entry
DESCRIPTION:This area requires a Lakeland Fire Department member account
URL:https://lakelandfirerescue.com/department-event/h-o-t-forcible-entry/
LOCATION:NY
END:VEVENT
BEGIN:VEVENT
DTSTART;TZID=America/New_York:20240605T183000
DTEND;TZID=America/New_York:20240605T193000
DTSTAMP:20260422T183522
CREATED:20240522T155616Z
LAST-MODIFIED:20240522T155854Z
UID:581-1717612200-1717615800@lakelandfirerescue.com
SUMMARY:Officer's Meeting
DESCRIPTION:This area requires a Lakeland Fire Department member account
URL:https://lakelandfirerescue.com/department-event/officers-meeting-4/
LOCATION:Lakeland Fire Department Station 2\, 2415 Motor Pkwy\, Ronkonkoma\, NY\, 11779\, United States
END:VEVENT
BEGIN:VEVENT
DTSTART;TZID=America/New_York:20240527T083000
DTEND;TZID=America/New_York:20240527T110000
DTSTAMP:20260422T183522
CREATED:20240513T175347Z
LAST-MODIFIED:20240513T175418Z
UID:564-1716798600-1716807600@lakelandfirerescue.com
SUMMARY:Memorial Day Parade
DESCRIPTION:This area requires a Lakeland Fire Department member account
URL:https://lakelandfirerescue.com/department-event/memorial-day-parade/
LOCATION:NY
END:VEVENT
BEGIN:VEVENT
DTSTART;TZID=America/New_York:20240521T100000
DTEND;TZID=America/New_York:20240521T110000
DTSTAMP:20260422T183522
CREATED:20240513T211932Z
LAST-MODIFIED:20240513T212001Z
UID:577-1716285600-1716289200@lakelandfirerescue.com
SUMMARY:LFD ESO Documentation Training
DESCRIPTION:This area requires a Lakeland Fire Department member account
URL:https://lakelandfirerescue.com/department-event/lfd-eso-documentation-training/
LOCATION:NY
END:VEVENT
BEGIN:VEVENT
DTSTART;TZID=UTC:20240520T184500
DTEND;TZID=UTC:20240520T210000
DTSTAMP:20260422T183522
CREATED:20231222T001757Z
LAST-MODIFIED:20240520T192732Z
UID:169-1716230700-1716238800@lakelandfirerescue.com
SUMMARY:Vehicle Extrication Drill @RFD
DESCRIPTION:This area requires a Lakeland Fire Department member account
URL:https://lakelandfirerescue.com/department-event/vehicle-extrication/
LOCATION:Ronkonkoma Fire Department\, 177 Portion Road\, Ronkonkoma\, New York\, 11779
END:VEVENT
BEGIN:VEVENT
DTSTART;TZID=America/New_York:20240519T080000
DTEND;TZID=America/New_York:20240525T170000
DTSTAMP:20260422T183522
CREATED:20240513T180108Z
LAST-MODIFIED:20240513T180159Z
UID:572-1716105600-1716656400@lakelandfirerescue.com
SUMMARY:EMS Week
DESCRIPTION:This area requires a Lakeland Fire Department member account
URL:https://lakelandfirerescue.com/department-event/ems-week/
LOCATION:NY
CATEGORIES:Public_Events
END:VEVENT
BEGIN:VEVENT
DTSTART;TZID=America/New_York:20240510T200000
DTEND;TZID=America/New_York:20240510T220000
DTSTAMP:20260422T183522
CREATED:20240513T175916Z
LAST-MODIFIED:20240513T175944Z
UID:568-1715371200-1715378400@lakelandfirerescue.com
SUMMARY:LFD Softball Game 1
DESCRIPTION:This area requires a Lakeland Fire Department member account
URL:https://lakelandfirerescue.com/department-event/lfd-softball-game-1/
LOCATION:Percy B Raynor Park\, Centereach\, Centereach\, New York\, 11720\, United States
END:VEVENT
BEGIN:VEVENT
DTSTART;TZID=America/New_York:20240510T190000
DTEND;TZID=America/New_York:20240511T123000
DTSTAMP:20260422T183522
CREATED:20240125T222544Z
LAST-MODIFIED:20240125T222545Z
UID:450-1715367600-1715430600@lakelandfirerescue.com
SUMMARY:Man vs Machine: Hands on Training
DESCRIPTION:This area requires a Lakeland Fire Department member account
URL:https://lakelandfirerescue.com/department-event/man-vs-machine-hands-on-training/
LOCATION:Islip Town Fire Museum\, 4 Courthouse Drive\, Central Islip\, New York\, 11722\, United States
CATEGORIES:Public_Events
END:VEVENT
BEGIN:VEVENT
DTSTART;TZID=America/New_York:20240508T200000
DTEND;TZID=America/New_York:20240508T210000
DTSTAMP:20260422T183522
CREATED:20240506T195242Z
LAST-MODIFIED:20240506T195320Z
UID:561-1715198400-1715202000@lakelandfirerescue.com
SUMMARY:Department Meeting
DESCRIPTION:This area requires a Lakeland Fire Department member account
URL:https://lakelandfirerescue.com/department-event/department-meeting-2/
LOCATION:Lakeland Fire Department Station 2\, 2415 Motor Pkwy\, Ronkonkoma\, NY\, 11779\, United States
END:VEVENT
END:VCALENDAR