BEGIN:VCALENDAR
VERSION:2.0
PRODID:-//Lakeland Fire Rescue - ECPv6.15.20//NONSGML v1.0//EN
CALSCALE:GREGORIAN
METHOD:PUBLISH
X-WR-CALNAME:Lakeland Fire Rescue
X-ORIGINAL-URL:https://lakelandfirerescue.com
X-WR-CALDESC:Events for Lakeland Fire Rescue
REFRESH-INTERVAL;VALUE=DURATION:PT1H
X-Robots-Tag:noindex
X-PUBLISHED-TTL:PT1H
BEGIN:VTIMEZONE
TZID:America/New_York
BEGIN:DAYLIGHT
TZOFFSETFROM:-0500
TZOFFSETTO:-0400
TZNAME:EDT
DTSTART:20240310T070000
END:DAYLIGHT
BEGIN:STANDARD
TZOFFSETFROM:-0400
TZOFFSETTO:-0500
TZNAME:EST
DTSTART:20241103T060000
END:STANDARD
BEGIN:DAYLIGHT
TZOFFSETFROM:-0500
TZOFFSETTO:-0400
TZNAME:EDT
DTSTART:20250309T070000
END:DAYLIGHT
BEGIN:STANDARD
TZOFFSETFROM:-0400
TZOFFSETTO:-0500
TZNAME:EST
DTSTART:20251102T060000
END:STANDARD
BEGIN:DAYLIGHT
TZOFFSETFROM:-0500
TZOFFSETTO:-0400
TZNAME:EDT
DTSTART:20260308T070000
END:DAYLIGHT
BEGIN:STANDARD
TZOFFSETFROM:-0400
TZOFFSETTO:-0500
TZNAME:EST
DTSTART:20261101T060000
END:STANDARD
BEGIN:DAYLIGHT
TZOFFSETFROM:-0500
TZOFFSETTO:-0400
TZNAME:EDT
DTSTART:20270314T070000
END:DAYLIGHT
BEGIN:STANDARD
TZOFFSETFROM:-0400
TZOFFSETTO:-0500
TZNAME:EST
DTSTART:20271107T060000
END:STANDARD
END:VTIMEZONE
BEGIN:VEVENT
DTSTART;TZID=America/New_York:20260121T200000
DTEND;TZID=America/New_York:20260121T220000
DTSTAMP:20260422T181710
CREATED:20260120T211716Z
LAST-MODIFIED:20260120T211742Z
UID:1159-1769025600-1769032800@lakelandfirerescue.com
SUMMARY:Department Meeting
DESCRIPTION:
URL:https://lakelandfirerescue.com/department-event/department-meeting-12/
LOCATION:Lakeland Fire Department HQ\, 929 Johnson Ave.\, Ronkonkoma\, NY\, 11779\, United States
END:VEVENT
BEGIN:VEVENT
DTSTART;TZID=America/New_York:20251220T160000
DTEND;TZID=America/New_York:20251220T180000
DTSTAMP:20260422T181710
CREATED:20251125T195634Z
LAST-MODIFIED:20251125T195653Z
UID:1135-1766246400-1766253600@lakelandfirerescue.com
SUMMARY:Santa Ride
DESCRIPTION:Santa ride around the neighborhood. Departs HQ @ 1600
URL:https://lakelandfirerescue.com/department-event/santa-ride/
LOCATION:Lakeland Fire Department HQ\, 929 Johnson Ave.\, Ronkonkoma\, NY\, 11779\, United States
END:VEVENT
BEGIN:VEVENT
DTSTART;TZID=America/New_York:20251214T090000
DTEND;TZID=America/New_York:20251214T120000
DTSTAMP:20260422T181710
CREATED:20251125T193839Z
LAST-MODIFIED:20251125T193841Z
UID:1119-1765702800-1765713600@lakelandfirerescue.com
SUMMARY:LFD: Breakfast with Santa
DESCRIPTION:LFD Station 2 is hosting Santa for breakfast! \n\n\n\nBreakfast\, Music\, Raffles and Pictures with Santa!
URL:https://lakelandfirerescue.com/department-event/lfd-breakfast-with-santa/
LOCATION:Lakeland Fire Department Station 2\, 2415 Motor Pkwy\, Ronkonkoma\, NY\, 11779\, United States
END:VEVENT
BEGIN:VEVENT
DTSTART;TZID=America/New_York:20251213T140000
DTEND;TZID=America/New_York:20251213T180000
DTSTAMP:20260422T181710
CREATED:20251125T195500Z
LAST-MODIFIED:20251125T195521Z
UID:1133-1765634400-1765648800@lakelandfirerescue.com
SUMMARY:Matthew's Wish Parade
DESCRIPTION:About the event\n\n\n\nMatthew’s Wish 15th Annual Parade of Toys \n\n\n\nWe will be holding our 15th Annual Matthew’s Wish Parade of Toys\, generously hosted by the Brentwood Fire Department 124 4th St.\, Brentwood NY on December 13th @ 2pm.Light refreshments\, Chinese Auction\, music and the big guy himself\, SANTA who will be coming in on a fire truck and will be available for pictures.Please come down and bring an unwrapped toy and meet the Matthew’s Wish family!Let’s fill that 18 wheeler and make Matthew’s Wish come true!
URL:https://lakelandfirerescue.com/department-event/matthews-wish-parade/
END:VEVENT
BEGIN:VEVENT
DTSTART;TZID=America/New_York:20251210T190000
DTEND;TZID=America/New_York:20251210T210000
DTSTAMP:20260422T181710
CREATED:20251125T194540Z
LAST-MODIFIED:20251125T194557Z
UID:1125-1765393200-1765400400@lakelandfirerescue.com
SUMMARY:Surgical Cric Airway Class
DESCRIPTION:With Dr. Coyne
URL:https://lakelandfirerescue.com/department-event/surgical-cric-airway-class/
LOCATION:Lakeland Fire Department HQ\, 929 Johnson Ave.\, Ronkonkoma\, NY\, 11779\, United States
END:VEVENT
BEGIN:VEVENT
DTSTART;TZID=America/New_York:20251206T190000
DTEND;TZID=America/New_York:20251206T210000
DTSTAMP:20260422T181710
CREATED:20251125T195258Z
LAST-MODIFIED:20251125T195318Z
UID:1131-1765047600-1765054800@lakelandfirerescue.com
SUMMARY:LFD: HQ Christmas Decorating
DESCRIPTION:
URL:https://lakelandfirerescue.com/department-event/lfd-hq-christmas-decorating/
LOCATION:Lakeland Fire Department HQ\, 929 Johnson Ave.\, Ronkonkoma\, NY\, 11779\, United States
END:VEVENT
BEGIN:VEVENT
DTSTART;TZID=America/New_York:20251206T120000
DTEND;TZID=America/New_York:20251206T145900
DTSTAMP:20260422T181710
CREATED:20251125T194324Z
LAST-MODIFIED:20251125T194409Z
UID:1122-1765022400-1765033140@lakelandfirerescue.com
SUMMARY:HQ Christmas Party for Kids
DESCRIPTION:
URL:https://lakelandfirerescue.com/department-event/hq-christmas-party-for-kids/
LOCATION:Lakeland Fire Department HQ\, 929 Johnson Ave.\, Ronkonkoma\, NY\, 11779\, United States
END:VEVENT
BEGIN:VEVENT
DTSTART;TZID=America/New_York:20251204T000000
DTEND;TZID=America/New_York:20251204T200000
DTSTAMP:20260422T181710
CREATED:20251125T194638Z
LAST-MODIFIED:20251125T194706Z
UID:1127-1764806400-1764878400@lakelandfirerescue.com
SUMMARY:LFD Voting - Chiefs and Officers
DESCRIPTION:
URL:https://lakelandfirerescue.com/department-event/lfd-voting-chiefs-and-officers/
END:VEVENT
BEGIN:VEVENT
DTSTART;TZID=America/New_York:20251201T190000
DTEND;TZID=America/New_York:20251201T213000
DTSTAMP:20260422T181710
CREATED:20250116T203505Z
LAST-MODIFIED:20250521T181015Z
UID:820-1764615600-1764624600@lakelandfirerescue.com
SUMMARY:LFD Officer's Meeting
DESCRIPTION:
URL:https://lakelandfirerescue.com/department-event/lfd-officers-meeting-12/
END:VEVENT
BEGIN:VEVENT
DTSTART;TZID=America/New_York:20251125T193000
DTEND;TZID=America/New_York:20251125T213000
DTSTAMP:20260422T181710
CREATED:20251028T184127Z
LAST-MODIFIED:20251028T184147Z
UID:1116-1764099000-1764106200@lakelandfirerescue.com
SUMMARY:LFD District Meeting
DESCRIPTION:
URL:https://lakelandfirerescue.com/department-event/lfd-district-meeting-3/
LOCATION:Lakeland Fire Department HQ\, 929 Johnson Ave.\, Ronkonkoma\, NY\, 11779\, United States
END:VEVENT
BEGIN:VEVENT
DTSTART;TZID=America/New_York:20251116T090000
DTEND;TZID=America/New_York:20251116T120000
DTSTAMP:20260422T181710
CREATED:20251028T184023Z
LAST-MODIFIED:20251028T184040Z
UID:1114-1763283600-1763294400@lakelandfirerescue.com
SUMMARY:CIFD Drill
DESCRIPTION:
URL:https://lakelandfirerescue.com/department-event/cifd-drill/
LOCATION:Central Islip Fire Department Station 2\, 110 County Rd 17\, Central Islip\, New York\, 11722
END:VEVENT
BEGIN:VEVENT
DTSTART;TZID=America/New_York:20251103T190000
DTEND;TZID=America/New_York:20251103T213000
DTSTAMP:20260422T181710
CREATED:20250116T203437Z
LAST-MODIFIED:20250521T180950Z
UID:818-1762196400-1762205400@lakelandfirerescue.com
SUMMARY:LFD Officer's Meeting
DESCRIPTION:
URL:https://lakelandfirerescue.com/department-event/lfd-officers-meeting-11/
END:VEVENT
BEGIN:VEVENT
DTSTART;TZID=America/New_York:20251101T083000
DTEND;TZID=America/New_York:20251101T130000
DTSTAMP:20260422T181710
CREATED:20250923T153435Z
LAST-MODIFIED:20250923T154041Z
UID:1064-1761985800-1762002000@lakelandfirerescue.com
SUMMARY:MCI Drill
DESCRIPTION:
URL:https://lakelandfirerescue.com/department-event/mci-drill/
END:VEVENT
BEGIN:VEVENT
DTSTART;TZID=America/New_York:20251015T183000
DTEND;TZID=America/New_York:20251015T203000
DTSTAMP:20260422T181710
CREATED:20250923T153747Z
LAST-MODIFIED:20250923T154008Z
UID:1067-1760553000-1760560200@lakelandfirerescue.com
SUMMARY:Stop the Bleed with SBUH
DESCRIPTION:
URL:https://lakelandfirerescue.com/department-event/stop-the-bleed-with-sbuh/
LOCATION:Lakeland Fire Department HQ\, 929 Johnson Ave.\, Ronkonkoma\, NY\, 11779\, United States
END:VEVENT
BEGIN:VEVENT
DTSTART;TZID=America/New_York:20251006T183000
DTEND;TZID=America/New_York:20251006T210000
DTSTAMP:20260422T181710
CREATED:20241209T143639Z
LAST-MODIFIED:20250521T180859Z
UID:788-1759775400-1759784400@lakelandfirerescue.com
SUMMARY:SCFA Department Drill: Low Rise Commercial Fires
DESCRIPTION:
URL:https://lakelandfirerescue.com/department-event/scfa-department-drill-low-rise-commercial-fires/
LOCATION:Suffolk County Fire Academy\, 103 East Ave\, Yaphank\, NY\, 11980\, United States
END:VEVENT
BEGIN:VEVENT
DTSTART;TZID=America/New_York:20251005T090000
DTEND;TZID=America/New_York:20251005T110000
DTSTAMP:20260422T181710
CREATED:20250116T203411Z
LAST-MODIFIED:20250521T180921Z
UID:816-1759654800-1759662000@lakelandfirerescue.com
SUMMARY:LFD Officer's Meeting
DESCRIPTION:
URL:https://lakelandfirerescue.com/department-event/lfd-officers-meeting-10/
END:VEVENT
BEGIN:VEVENT
DTSTART;TZID=America/New_York:20250923T190000
DTEND;TZID=America/New_York:20250923T200000
DTSTAMP:20260422T181710
CREATED:20250923T154326Z
LAST-MODIFIED:20250923T154345Z
UID:1069-1758654000-1758657600@lakelandfirerescue.com
SUMMARY:CPR Class
DESCRIPTION:
URL:https://lakelandfirerescue.com/department-event/cpr-class/
LOCATION:Lakeland Fire Department HQ\, 929 Johnson Ave.\, Ronkonkoma\, NY\, 11779\, United States
END:VEVENT
BEGIN:VEVENT
DTSTART;TZID=America/New_York:20250919T183000
DTEND;TZID=America/New_York:20250919T213000
DTSTAMP:20260422T181710
CREATED:20250710T193531Z
LAST-MODIFIED:20250710T193551Z
UID:925-1758306600-1758317400@lakelandfirerescue.com
SUMMARY:Garden Apts Drill @Nassau
DESCRIPTION:
URL:https://lakelandfirerescue.com/department-event/garden-apts-drill-nassau/
END:VEVENT
BEGIN:VEVENT
DTSTART;TZID=America/New_York:20250914T090000
DTEND;TZID=America/New_York:20250914T110000
DTSTAMP:20260422T181710
CREATED:20250116T203341Z
LAST-MODIFIED:20250905T204412Z
UID:813-1757840400-1757847600@lakelandfirerescue.com
SUMMARY:LFD Officer's Meeting
DESCRIPTION:
URL:https://lakelandfirerescue.com/department-event/lfd-officers-meeting-9/
END:VEVENT
BEGIN:VEVENT
DTSTART;TZID=America/New_York:20250908T183000
DTEND;TZID=America/New_York:20250908T213000
DTSTAMP:20260422T181710
CREATED:20241209T143541Z
LAST-MODIFIED:20250521T181100Z
UID:786-1757356200-1757367000@lakelandfirerescue.com
SUMMARY:SCFA Department Drill: Taxpayer
DESCRIPTION:
URL:https://lakelandfirerescue.com/department-event/scfa-department-drill-taxpayer/
LOCATION:Suffolk County Fire Academy\, 103 East Ave\, Yaphank\, NY\, 11980\, United States
END:VEVENT
BEGIN:VEVENT
DTSTART;TZID=America/New_York:20250825T183000
DTEND;TZID=America/New_York:20250825T203000
DTSTAMP:20260422T181710
CREATED:20250710T193053Z
LAST-MODIFIED:20250710T193336Z
UID:923-1756146600-1756153800@lakelandfirerescue.com
SUMMARY:Warehouse Drill @Nassau
DESCRIPTION:
URL:https://lakelandfirerescue.com/department-event/warehouse-drill-nassau/
END:VEVENT
BEGIN:VEVENT
DTSTART;TZID=America/New_York:20250809T180000
DTEND;TZID=America/New_York:20250809T210000
DTSTAMP:20260422T181710
CREATED:20250521T181613Z
LAST-MODIFIED:20250805T210702Z
UID:894-1754762400-1754773200@lakelandfirerescue.com
SUMMARY:Islip Town Parade
DESCRIPTION:Parade route: Johnson Ave from Haven Ave to Lakeland Fire Department HQ (929 Johnson Ave)
URL:https://lakelandfirerescue.com/department-event/islip-town-parade/
LOCATION:Lakeland Fire Department HQ\, 929 Johnson Ave.\, Ronkonkoma\, NY\, 11779\, United States
CATEGORIES:Public_Events
END:VEVENT
BEGIN:VEVENT
DTSTART;TZID=America/New_York:20250809T140000
DTEND;TZID=America/New_York:20250809T180000
DTSTAMP:20260422T181710
CREATED:20250805T205657Z
LAST-MODIFIED:20250805T205727Z
UID:929-1754748000-1754762400@lakelandfirerescue.com
SUMMARY:Parade Work Detail
DESCRIPTION:
URL:https://lakelandfirerescue.com/department-event/parade-work-detail/
END:VEVENT
BEGIN:VEVENT
DTSTART;TZID=America/New_York:20250804T183000
DTEND;TZID=America/New_York:20250804T210000
DTSTAMP:20260422T181710
CREATED:20241209T143457Z
LAST-MODIFIED:20250521T181533Z
UID:784-1754332200-1754341200@lakelandfirerescue.com
SUMMARY:SCFA Department Drill: High Rise Operations
DESCRIPTION:
URL:https://lakelandfirerescue.com/department-event/scfa-department-drill-high-rise-operations/
LOCATION:Suffolk County Fire Academy\, 103 East Ave\, Yaphank\, NY\, 11980\, United States
END:VEVENT
BEGIN:VEVENT
DTSTART;TZID=America/New_York:20250803T090000
DTEND;TZID=America/New_York:20250803T090000
DTSTAMP:20260422T181710
CREATED:20250116T203311Z
LAST-MODIFIED:20250116T204025Z
UID:811-1754211600-1754211600@lakelandfirerescue.com
SUMMARY:LFD Officer's Meeting
DESCRIPTION:
URL:https://lakelandfirerescue.com/department-event/lfd-officers-meeting-8/
END:VEVENT
BEGIN:VEVENT
DTSTART;TZID=America/New_York:20250723T190000
DTEND;TZID=America/New_York:20250723T220000
DTSTAMP:20260422T181710
CREATED:20250710T192943Z
LAST-MODIFIED:20250710T193012Z
UID:921-1753297200-1753308000@lakelandfirerescue.com
SUMMARY:Department Meeting
DESCRIPTION:
URL:https://lakelandfirerescue.com/department-event/department-meeting-11/
END:VEVENT
BEGIN:VEVENT
DTSTART;TZID=America/New_York:20250721T183000
DTEND;TZID=America/New_York:20250721T210000
DTSTAMP:20260422T181710
CREATED:20241209T143358Z
LAST-MODIFIED:20250521T180830Z
UID:782-1753122600-1753131600@lakelandfirerescue.com
SUMMARY:SCFA Department Drill: Private Dwelling Search
DESCRIPTION:
URL:https://lakelandfirerescue.com/department-event/scfa-department-drill-private-dwelling-search/
LOCATION:Suffolk County Fire Academy\, 103 East Ave\, Yaphank\, NY\, 11980\, United States
END:VEVENT
BEGIN:VEVENT
DTSTART;TZID=America/New_York:20250716T173000
DTEND;TZID=America/New_York:20250716T220000
DTSTAMP:20260422T181710
CREATED:20250702T132419Z
LAST-MODIFIED:20250710T192829Z
UID:918-1752687000-1752703200@lakelandfirerescue.com
SUMMARY:Huntington Manor Parade
DESCRIPTION:
URL:https://lakelandfirerescue.com/department-event/huntington-manor-parade/
END:VEVENT
BEGIN:VEVENT
DTSTART;TZID=America/New_York:20250714T190000
DTEND;TZID=America/New_York:20250714T210000
DTSTAMP:20260422T181710
CREATED:20240822T155235Z
LAST-MODIFIED:20250710T192646Z
UID:695-1752519600-1752526800@lakelandfirerescue.com
SUMMARY:EMS CPR Class
DESCRIPTION:CPR Certification Class
URL:https://lakelandfirerescue.com/department-event/ems-cpr-class/
LOCATION:Lakeland Fire Department Station 2\, 2415 Motor Pkwy\, Ronkonkoma\, NY\, 11779\, United States
END:VEVENT
BEGIN:VEVENT
DTSTART;TZID=America/New_York:20250707T190000
DTEND;TZID=America/New_York:20250707T213000
DTSTAMP:20260422T181710
CREATED:20250116T203237Z
LAST-MODIFIED:20250702T131959Z
UID:809-1751914800-1751923800@lakelandfirerescue.com
SUMMARY:LFD Officer's Meeting
DESCRIPTION:
URL:https://lakelandfirerescue.com/department-event/lfd-officers-meeting-7/
LOCATION:Lakeland Fire Department HQ\, 929 Johnson Ave.\, Ronkonkoma\, NY\, 11779\, United States
END:VEVENT
END:VCALENDAR