BEGIN:VCALENDAR
VERSION:2.0
PRODID:-//Lakeland Fire Rescue - ECPv6.15.20//NONSGML v1.0//EN
CALSCALE:GREGORIAN
METHOD:PUBLISH
X-WR-CALNAME:Lakeland Fire Rescue
X-ORIGINAL-URL:https://lakelandfirerescue.com
X-WR-CALDESC:Events for Lakeland Fire Rescue
REFRESH-INTERVAL;VALUE=DURATION:PT1H
X-Robots-Tag:noindex
X-PUBLISHED-TTL:PT1H
BEGIN:VTIMEZONE
TZID:America/New_York
BEGIN:DAYLIGHT
TZOFFSETFROM:-0500
TZOFFSETTO:-0400
TZNAME:EDT
DTSTART:20230312T070000
END:DAYLIGHT
BEGIN:STANDARD
TZOFFSETFROM:-0400
TZOFFSETTO:-0500
TZNAME:EST
DTSTART:20231105T060000
END:STANDARD
BEGIN:DAYLIGHT
TZOFFSETFROM:-0500
TZOFFSETTO:-0400
TZNAME:EDT
DTSTART:20240310T070000
END:DAYLIGHT
BEGIN:STANDARD
TZOFFSETFROM:-0400
TZOFFSETTO:-0500
TZNAME:EST
DTSTART:20241103T060000
END:STANDARD
BEGIN:DAYLIGHT
TZOFFSETFROM:-0500
TZOFFSETTO:-0400
TZNAME:EDT
DTSTART:20250309T070000
END:DAYLIGHT
BEGIN:STANDARD
TZOFFSETFROM:-0400
TZOFFSETTO:-0500
TZNAME:EST
DTSTART:20251102T060000
END:STANDARD
BEGIN:DAYLIGHT
TZOFFSETFROM:-0500
TZOFFSETTO:-0400
TZNAME:EDT
DTSTART:20260308T070000
END:DAYLIGHT
BEGIN:STANDARD
TZOFFSETFROM:-0400
TZOFFSETTO:-0500
TZNAME:EST
DTSTART:20261101T060000
END:STANDARD
END:VTIMEZONE
BEGIN:VEVENT
DTSTART;TZID=America/New_York:20250809T180000
DTEND;TZID=America/New_York:20250809T210000
DTSTAMP:20260421T173251
CREATED:20250521T181613Z
LAST-MODIFIED:20250805T210702Z
UID:894-1754762400-1754773200@lakelandfirerescue.com
SUMMARY:Islip Town Parade
DESCRIPTION:Parade route: Johnson Ave from Haven Ave to Lakeland Fire Department HQ (929 Johnson Ave)
URL:https://lakelandfirerescue.com/department-event/islip-town-parade/
LOCATION:Lakeland Fire Department HQ\, 929 Johnson Ave.\, Ronkonkoma\, NY\, 11779\, United States
CATEGORIES:Public_Events
END:VEVENT
BEGIN:VEVENT
DTSTART;TZID=America/New_York:20241015T090000
DTEND;TZID=America/New_York:20241015T110000
DTSTAMP:20260421T173251
CREATED:20240911T165146Z
LAST-MODIFIED:20240911T170004Z
UID:716-1728982800-1728990000@lakelandfirerescue.com
SUMMARY:Fire Prevention Class
DESCRIPTION:
URL:https://lakelandfirerescue.com/department-event/fire-prevention-class-3/
LOCATION:Duffield Elementary School\, 600 1st St\, Ronkonkoma\, New York\, 11779
CATEGORIES:Public_Events
END:VEVENT
BEGIN:VEVENT
DTSTART;TZID=America/New_York:20241008T090000
DTEND;TZID=America/New_York:20241008T110000
DTSTAMP:20260421T173251
CREATED:20240911T164842Z
LAST-MODIFIED:20241003T175910Z
UID:714-1728378000-1728385200@lakelandfirerescue.com
SUMMARY:Fire Prevention Class
DESCRIPTION:@LFD Station 2
URL:https://lakelandfirerescue.com/department-event/fire-prevention-class-2/
LOCATION:NY
CATEGORIES:Public_Events
END:VEVENT
BEGIN:VEVENT
DTSTART;TZID=America/New_York:20241007T090000
DTEND;TZID=America/New_York:20241007T110000
DTSTAMP:20260421T173251
CREATED:20240911T164731Z
LAST-MODIFIED:20240911T165939Z
UID:710-1728291600-1728298800@lakelandfirerescue.com
SUMMARY:Fire Prevention Class
DESCRIPTION:
URL:https://lakelandfirerescue.com/department-event/fire-prevention-class/
LOCATION:Slocum Elementary School\, 2460 Sycamore Ave\, Ronkonkoma\, New York\, 11779
CATEGORIES:Public_Events
END:VEVENT
BEGIN:VEVENT
DTSTART;TZID=America/New_York:20240918T090000
DTEND;TZID=America/New_York:20240918T110000
DTSTAMP:20260421T173251
CREATED:20240911T165308Z
LAST-MODIFIED:20240911T165840Z
UID:720-1726650000-1726657200@lakelandfirerescue.com
SUMMARY:Fire Prevention Class
DESCRIPTION:
URL:https://lakelandfirerescue.com/department-event/fire-prevention-class-4/
LOCATION:NY
CATEGORIES:Public_Events
END:VEVENT
BEGIN:VEVENT
DTSTART;TZID=America/New_York:20240519T080000
DTEND;TZID=America/New_York:20240525T170000
DTSTAMP:20260421T173251
CREATED:20240513T180108Z
LAST-MODIFIED:20240513T180159Z
UID:572-1716105600-1716656400@lakelandfirerescue.com
SUMMARY:EMS Week
DESCRIPTION:EMS Week is the time we honor the entire EMS profession and its importance in protecting the safety and health of our citizens. Our country’s EMS professionals serve in a broad range of roles\, from providing highly skilled care in an ambulance\, to serving as educators\, to practicing community paramedicine\, to conducting research. These individuals are dedicated to improving emergency medical services on numerous levels and are helping to advance the vision of EMS Agenda 2050\, that of a data-driven\, evidence-based\, people-centered EMS system. \n\n\n\nMay 19-25\, 2024 marks the 50th Anniversary of EMS Week. This year’s theme\, “Honoring Our Past. Forging Our Future\,” reminds us to acknowledge the foundational work of those who came before us\, while also striving to build and lead the EMS system we envision for our future. In the 50 years since we’ve been celebrating EMS Week\, our profession has made enormous strides in pre-hospital care\, data collection\, emergency management and community-based healthcare. We’ve developed comprehensive EMS systems that are ready for any kind of emergency–seven days a week\, 24 hours a day–whether or not that includes going to the hospital. \n\n\n\nNHTSA’s Office of EMS (OEMS) proudly supports the EMS community and honors the hard work and commitment of the hundreds of thousands of EMS clinicians across our country. Their unwavering dedication and hard work saves lives every day. Thank you for your service to our nation. 
URL:https://lakelandfirerescue.com/department-event/ems-week/
LOCATION:NY
CATEGORIES:Public_Events
END:VEVENT
BEGIN:VEVENT
DTSTART;TZID=America/New_York:20240510T190000
DTEND;TZID=America/New_York:20240511T123000
DTSTAMP:20260421T173251
CREATED:20240125T222544Z
LAST-MODIFIED:20240125T222545Z
UID:450-1715367600-1715430600@lakelandfirerescue.com
SUMMARY:Man vs Machine: Hands on Training
DESCRIPTION:Man vs. Machine Rescue Training\n\n\n\n\n\n\n\nStudents are instructed on methods they can use to disentangle victims from a variety of situations. Basic techniques for removing rings are addressed. Evolutions progress in complexity to include auger entrapments\, impalements (fencing/inside vehicles)\, persons trapped under vehicles\, torch operations\, as well as other “tips & tricks” learned from real-world experiences. \n\n\n\nThe Classroom and Practical Skills portion of the program focus on finding the least complicated method of performing such rescues rather than “overthinking” the given situation. \n\n\n\nLECTURE: Friday May 10th @7pm \n\n\n\nHOT SESSIONS: Saturday May 11th\, @12:30pm \n\n\n\nContact: Tom Rinelli 631-721-8129 \n\n\n\nA portion of the proceeds will benefit the museum’s daily operations and special projects \n\n\n\nPre-registration required by April 26th
URL:https://lakelandfirerescue.com/department-event/man-vs-machine-hands-on-training/
LOCATION:Islip Town Fire Museum\, 4 Courthouse Drive\, Central Islip\, New York\, 11722\, United States
CATEGORIES:Public_Events
END:VEVENT
BEGIN:VEVENT
DTSTART;TZID=America/New_York:20240324T140000
DTEND;TZID=America/New_York:20240324T160000
DTSTAMP:20260421T173251
CREATED:20240123T194814Z
LAST-MODIFIED:20240123T194815Z
UID:439-1711288800-1711296000@lakelandfirerescue.com
SUMMARY:Ronkonkoma Saint Patrick's Parade
DESCRIPTION:Join us as we celebrate the luck of the Irish in the Annual Ronkonkoma St. Patrick’s Day Parade
URL:https://lakelandfirerescue.com/department-event/ronkonkoma-saint-patricks-parade/
LOCATION:NY
CATEGORIES:Public_Events
END:VEVENT
BEGIN:VEVENT
DTSTART;TZID=America/New_York:20240314T190000
DTEND;TZID=America/New_York:20240314T213000
DTSTAMP:20260421T173251
CREATED:20240125T224109Z
LAST-MODIFIED:20240125T224111Z
UID:452-1710442800-1710451800@lakelandfirerescue.com
SUMMARY:Pet CPR & First Aid for First Responders
DESCRIPTION:This training is designed for anyone with an interest in “pawtecting” the safety and wellness of canine/feline pets.   \n\n\n\nThe course content is delivered through a combination of lecture\, demonstration and hands-on skills practice. \n\n\n\nWith a focus on hands-on skills practice to ensure proficiency and retention of the life saving skills taught\, this training is geared for First Responders  \n\n\n\n \n\n\n\nA portion of the proceeds benefit the Islip Town Fire & EMS Museum
URL:https://lakelandfirerescue.com/department-event/pet-cpr-first-aid-for-first-responders/
LOCATION:Islip Town Fire Museum\, 4 Courthouse Drive\, Central Islip\, New York\, 11722\, United States
CATEGORIES:Public_Events
END:VEVENT
BEGIN:VEVENT
DTSTART;TZID=America/New_York:20240305T180000
DTEND;TZID=America/New_York:20240305T200000
DTSTAMP:20260421T173251
CREATED:20240216T184717Z
LAST-MODIFIED:20240216T184757Z
UID:489-1709661600-1709668800@lakelandfirerescue.com
SUMMARY:CHS Career Night
DESCRIPTION:EMS and Fire representing LFD at CHS 2nd Annual Career Night
URL:https://lakelandfirerescue.com/department-event/chs-career-night/
LOCATION:Connetquot High School\, 190 7th Street\, Bohemia\, New York\, 11716
CATEGORIES:Public_Events
END:VEVENT
BEGIN:VEVENT
DTSTART;TZID=America/New_York:20240303T140000
DTEND;TZID=America/New_York:20240303T170000
DTSTAMP:20260421T173251
CREATED:20240123T194557Z
LAST-MODIFIED:20240123T194620Z
UID:435-1709474400-1709485200@lakelandfirerescue.com
SUMMARY:East Islip Saint Patrick's Day Parade
DESCRIPTION:Step off 2pm
URL:https://lakelandfirerescue.com/department-event/east-islip-saint-patricks-day-parade/
LOCATION:NY
CATEGORIES:Public_Events
END:VEVENT
BEGIN:VEVENT
DTSTART;TZID=America/New_York:20240211T080000
DTEND;TZID=America/New_York:20240211T170000
DTSTAMP:20260421T173251
CREATED:20240104T033946Z
LAST-MODIFIED:20240104T034337Z
UID:281-1707638400-1707670800@lakelandfirerescue.com
SUMMARY:HQ - Super Bowl Donation Event
DESCRIPTION:Head Quarters Company is hosting a SUPER BOWL LVIII donation event this year. \n\n\n\nMore details to follow on how to donate.
URL:https://lakelandfirerescue.com/department-event/hq-super-bowl-pool-fundraiser/
LOCATION:Lakeland Fire Department HQ\, 929 Johnson Ave.\, Ronkonkoma\, NY\, 11779\, United States
CATEGORIES:Public_Events
END:VEVENT
BEGIN:VEVENT
DTSTART;TZID=America/New_York:20240204T090000
DTEND;TZID=America/New_York:20240204T150000
DTSTAMP:20260421T173251
CREATED:20240118T175114Z
LAST-MODIFIED:20240125T223012Z
UID:430-1707037200-1707058800@lakelandfirerescue.com
SUMMARY:2024 LONG ISLAND METRO FIRE/EMS EXPO
DESCRIPTION:The New York State Association of Fire Chiefs and the Islip Town Fire/EMS Museum Educational Center have partnered once again to deliver this exciting emergency services exposition and educational event on Long Island. \n\n\n\nThe 2024 Long Island Metro Fire/EMS Expo will feature vendors displaying apparatus\, tools\, equipment\, and services for fire and EMS agencies\, as well as educational seminars for fire/EMS responders of all ranks presented by some of the most prominent leaders in the emergency services field. \n\n\n\nThis event benefits the museum and the association\, supporting their shared mission to serve the fire and emergency services personnel of Long Island and New York state
URL:https://lakelandfirerescue.com/department-event/2024-long-island-metro-fire-ems-expo-3/
LOCATION:Nassau Coliseum\, 1255 Hempstead Tpke\, Uniondale\, New York\, 11553\, United States
CATEGORIES:Public_Events
END:VEVENT
BEGIN:VEVENT
DTSTART;TZID=America/New_York:20240203T090000
DTEND;TZID=America/New_York:20240203T170000
DTSTAMP:20260421T173251
CREATED:20240118T174938Z
LAST-MODIFIED:20240125T223144Z
UID:427-1706950800-1706979600@lakelandfirerescue.com
SUMMARY:2024 LONG ISLAND METRO FIRE/EMS EXPO
DESCRIPTION:The New York State Association of Fire Chiefs and the Islip Town Fire/EMS Museum Educational Center have partnered once again to deliver this exciting emergency services exposition and educational event on Long Island. \n\n\n\nThe 2024 Long Island Metro Fire/EMS Expo will feature vendors displaying apparatus\, tools\, equipment\, and services for fire and EMS agencies\, as well as educational seminars for fire/EMS responders of all ranks presented by some of the most prominent leaders in the emergency services field. \n\n\n\nThis event benefits the museum and the association\, supporting their shared mission to serve the fire and emergency services personnel of Long Island and New York state
URL:https://lakelandfirerescue.com/department-event/2024-long-island-metro-fire-ems-expo-2/
LOCATION:Nassau Coliseum\, 1255 Hempstead Tpke\, Uniondale\, New York\, 11553\, United States
CATEGORIES:Public_Events
END:VEVENT
BEGIN:VEVENT
DTSTART;TZID=America/New_York:20240202T150000
DTEND;TZID=America/New_York:20240202T190000
DTSTAMP:20260421T173251
CREATED:20240118T174736Z
LAST-MODIFIED:20240125T222709Z
UID:422-1706886000-1706900400@lakelandfirerescue.com
SUMMARY:2024 LONG ISLAND METRO FIRE/EMS EXPO
DESCRIPTION:The New York State Association of Fire Chiefs and the Islip Town Fire/EMS Museum Educational Center have partnered once again to deliver this exciting emergency services exposition and educational event on Long Island. \n\n\n\nThe 2024 Long Island Metro Fire/EMS Expo will feature vendors displaying apparatus\, tools\, equipment\, and services for fire and EMS agencies\, as well as educational seminars for fire/EMS responders of all ranks presented by some of the most prominent leaders in the emergency services field. \n\n\n\nThis event benefits the museum and the association\, supporting their shared mission to serve the fire and emergency services personnel of Long Island and New York state.
URL:https://lakelandfirerescue.com/department-event/2024-long-island-metro-fire-ems-expo/
LOCATION:Nassau Coliseum\, 1255 Hempstead Tpke\, Uniondale\, New York\, 11553\, United States
CATEGORIES:Public_Events
END:VEVENT
END:VCALENDAR